Workbook

Sheet Standings
A1: STANDINGS REFLECT MILES SUBMITTED ON OR BEFORE
A2: 46287.266
A4: Youth | F4: Weight Class II | K4: Distance Division I | P4: Distance Division II | U4: Distance Division III
K5: (days with 0.1 to 5.0 miles logged) | P5: (days with 5.1 to 10.0 miles logged) | U5: (days with 10.1 miles or more logged)
A6: First Name | B6: Last Name | C6: Miles | D6: Placing | F6: First Name | G6: Last Name | H6: Miles | I6: Placing | K6: First Name | L6: Last Name | M6: Miles | N6: Placing | P6: First Name | Q6: Last Name | R6: Miles | S6: Placing | U6: First Name | V6: Last Name | W6: Miles | X6: Placing
A7: Katie | B7: Poe | C7: 767.6 | D7: 1 | F7: Marlene | G7: Poe | H7: 1665.1 | I7: 1 | K7: Teresa | L7: Dixon | M7: 588.2 | N7: 1 | P7: AJ | Q7: Haddenham | R7: 683 | S7: 1 | U7: Susan | V7: McLain | W7: 793.3 | X7: 1
A8: Brianna | B8: Girod | C8: 350.1 | D8: 2 | F8: Teresa | G8: Dixon | H8: 1469 | I8: 2 | K8: Holly | L8: Haddenham | M8: 542.6 | N8: 2 | P8: Marlene | Q8: Poe | R8: 646.9 | S8: 2 | U8: Marlene | V8: Poe | W8: 661.7 | X8: 2
A9: Hannah | B9: Armstrong | C9: 312.1 | D9: 3 | F9: Guy | G9: Cheek | H9: 1059.7 | I9: 3 | K9: AJ | L9: Haddenham | M9: 541.5 | N9: 3 | P9: Sandy | Q9: Cheek | R9: 565.2 | S9: 3 | U9: Teresa | V9: Dixon | W9: 403.3 | X9: 3
A10: Trivette | B10: Girod | C10: 225.8 | D10: 4 | F10: Katie | G10: Dixon | H10: 756.4 | I10: 5 | K10: Bonnie | L10: Girod | M10: 515.8 | N10: 4 | P10: Guy | Q10: Cheek | R10: 503.1 | S10: 4 | U10: Katie | V10: Dixon | W10: 363.8 | X10: 4
F11: Kendal | G11: Ingraham | H11: 526.7 | I11: 6 | K11: Sandy | L11: Cheek | M11: 492.7 | N11: 5 | P11: Teresa | Q11: Dixon | R11: 477.5 | S11: 5 | U11: Jenna | V11: Sullivan Richter | W11: 317.7 | X11: 5
A12: Weight Class I | F12: Beth | G12: Meenaghan | H12: 301.5 | I12: 7 | K12: Carol | L12: Giles | M12: 455.5 | N12: 6 | P12: Susan | Q12: McLain | R12: 431.7 | S12: 6 | U12: Guy | V12: Cheek | W12: 280.9 | X12: 6
A13: First Name | B13: Last Name | C13: Miles | D13: Placing | F13: Darlene | G13: Merlich | H13: 290 | I13: 8 | K13: Susan | L13: McLain | M13: 413.3 | N13: 7 | P13: Carol | Q13: Giles | R13: 411.4 | S13: 7 | U13: Sandy | V13: Cheek | W13: 273.3 | X13: 7
A14: Susan | B14: McLain | C14: 1638.3 | D14: 1 | F14: Wendy | G14: Friedrich | H14: 144 | I14: 9 | K14: Katie | L14: Poe | M14: 375.1 | N14: 8 | P14: Katie | Q14: Dixon | R14: 336.6 | S14: 8 | U14: Carol | V14: Giles | W14: 230.3 | X14: 8
A15: Sandy | B15: Cheek | C15: 1331.2 | D15: 2 | K15: Marlene | L15: Poe | M15: 356.5 | N15: 9 | P15: Bonnie | Q15: Girod | R15: 335 | S15: 9 | U15: Bonnie | V15: Girod | W15: 179.5 | X15: 9
A16: Carol | B16: Giles | C16: 1097.2 | D16: 3 | K16: Kendal | L16: Ingraham | M16: 350.6 | N16: 10 | P16: Katie | Q16: Poe | R16: 275.8 | S16: 10 | U16: Brianna | V16: Girod | W16: 178.3 | X16: 10
A17: Bonnie | B17: Girod | C17: 1030.3 | D17: 4 | K17: Guy | L17: Cheek | M17: 275.7 | N17: 11 | P17: Holly | Q17: Haddenham | R17: 227.4 | S17: 11 | U17: Tamara | V17: Baysinger | W17: 139.1 | X17: 11
A18: Tamara | B18: Baysinger | C18: 436.6 | D18: 5 | K18: Jill | L18: Brewster | M18: 266.8 | N18: 12 | P18: Tamara | Q18: Baysinger | R18: 196.8 | S18: 12 | U18: Darlene | V18: Merlich | W18: 122.9 | X18: 12
A19: Jenna | B19: Sullivan Richter | C19: 421.5 | D19: 6 | F19: Weight Class III | K19: Hannah | L19: Armstrong | M19: 233.1 | N19: 13 | P19: Rachel | Q19: Miller | R19: 160.5 | S19: 13 | U19: Katie | V19: Poe | W19: 116.7 | X19: 13
A20: Jill | B20: Brewster | C20: 297 | D20: 7 | F20: First Name | G20: Last Name | H20: Miles | I20: Placing | K20: Rachael | L20: Gibson | M20: 224 | N20: 14 | P20: Darlene | Q20: Merlich | R20: 138.8 | S20: 14 | U20: Kendal | V20: Ingraham | W20: 75.7 | X20: 14
A21: Rachel | B21: Miller | C21: 232.2 | D21: 8 | F21: AJ | G21: Haddenham | H21: 1297.5 | I21: 1 | K21: Beth | L21: Meenaghan | M21: 147 | N21: 15 | P21: Beth | Q21: Meenaghan | R21: 117.4 | S21: 15 | U21: AJ | V21: Haddenham | W21: 73 | X21: 15
A22: Sophia | B22: McKee | C22: 209.5 | D22: 9 | F22: Holly | G22: Haddenham | H22: 805.8 | I22: 2 | K22: Wendy | L22: Friedrich | M22: 144 | N22: 16 | P22: Kendal | Q22: Ingraham | R22: 100.4 | S22: 16 | U22: Trivette | V22: Girod | W22: 61.9 | X22: 16
A23: Victoria | B23: Marsh | C23: 139.1 | D23: 10 | F23: Rachael | G23: Gibson | H23: 236.3 | I23: 3 | K23: Sophia | L23: McKee | M23: 107.2 | N23: 17 | P23: Brianna | Q23: Girod | R23: 94 | S23: 17 | U23: Victoria | V23: Marsh | W23: 42.7 | X23: 17
K24: Tamara | L24: Baysinger | M24: 100.7 | N24: 18 | P24: Trivette | Q24: Girod | R24: 71.5 | S24: 18 | U24: Beth | V24: Meenaghan | W24: 37.1 | X24: 18
K25: Trivette | L25: Girod | M25: 92.4 | N25: 19 | P25: Hannah | Q25: Armstrong | R25: 67 | S25: 19 | U25: Holly | V25: Haddenham | W25: 35.8 | X25: 19
K26: Brianna | L26: Girod | M26: 77.8 | N26: 20 | P26: Sophia | Q26: McKee | R26: 66.9 | S26: 20 | U26: Sophia | V26: McKee | W26: 35.4 | X26: 20
K27: Jenna | L27: Sullivan Richter | M27: 73.3 | N27: 21 | P27: Victoria | Q27: Marsh | R27: 56.5 | S27: 21 | U27: Rachel | V27: Miller | W27: 15.7 | X27: 21
K28: Rachel | L28: Miller | M28: 56 | N28: 22 | P28: Jenna | Q28: Sullivan Richter | R28: 30.5 | S28: 22 | U28: Hannah | V28: Armstrong | W28: 12 | X28: 22
K29: Katie | L29: Dixon | M29: 56 | N29: 23 | P29: Jill | Q29: Brewster | R29: 30.2 | S29: 23 | U29: Jill | V29: Brewster | W29: 0 | X29: 23
K30: Victoria | L30: Marsh | M30: 39.9 | N30: 24 | P30: Rachael | Q30: Gibson | R30: 12.3 | S30: 24 | U30: Wendy | V30: Friedrich | W30: 0 | X30: 24
K31: Darlene | L31: Merlich | M31: 28.3 | N31: 25 | P31: Wendy | Q31: Friedrich | R31: 0 | S31: 25 | U31: Rachael | V31: Gibson | W31: 0 | X31: 25

Sheet Miles Logged
A1: ID # | B1: First Name | C1: Last Name | D1: Weight Division | E1: Weight Class I 170 or fewer lbs MILES | F1: Weight Class II 171 to 200 lbs MILES | G1: Weight Class III 201 or more lbs MILES | H1: Youth MILES | I1: Distance Div I 0.1 to 5.0 MILES | J1: Distance Div II 5.1 to 10.0 MILES | K1: Distance Div III 10.1 & above MILES | L1: Error Check | M1: 46023 | N1: =+M1+1 -> 46024 | O1: =+N1+1 -> 46025 | P1: =+O1+1 -> 46026 | Q1: =+P1+1 -> 46027 | R1: =+Q1+1 -> 46028 | S1: =+R1+1 -> 46029 | T1: =+S1+1 -> 46030 | U1: =+T1+1 -> 46031 | ... NM1: =+NL1+1 -> 46387 | NN1: January | NO1: February | NP1: March | NQ1: April | NR1: May | NS1: June | NT1: July | NU1: Aug | NV1: Sept | NW1: Oct | NX1: Nov | NY1: Dec | NZ1: TOTAL
A2: A00362 | B2: Hannah | C2: Armstrong | D2: Youth | H2: =SUM(M2:NM2) -> 312.1 | I2: =+ED2+EE2+EF2+EH2+EI2+EJ2+EL2+EY2+FQ2+FR2+FS2+FV2+FX2+FZ2+GB2+GC2+GD2+GE2+GG2+GL2+GM2+GN2+GO2+GR2+GS2+GT2+GV2+GX2+GY2+HA2+HB2+HC2+HD2+HE2+HG2+HH2+HI2+HJ2+HK2+HL2+HM2+HN2+HO2+HF2+HR2+HS2+HT2+HU2+HV2+HW2+HX2+HY2+HZ2+IA2+IB2+IC2+ID2+IE2+IF2+IG2+IH2+II2+IJ2+IK2+IM2+IN2+IO2+IP2+IQ2+IR2+IT2+IU2 -> 233.1 | J2: =+GA2+GH2+GP2+GU2+GW2+GZ2+HP2+HQ2+IL2+IS2 -> 67 | K2: =+GQ2 -> 12 | L2: =+H2-I2-J2-K2 -> 2.8421709e-14 | ED2: 2.5 | EE2: 1.8 | EF2: 1.5 | EH2: 4 | EI2: 3.8 | EJ2: 3.8 | EL2: 5 | EY2: 4 | FQ2: 2 | FR2: 3 | FS2: 2 | FV2: 2 | FX2: 2 | FZ2: 4 | GA2: 7 | GB2: 4 | GC2: 3 | GD2: 5 | GE2: 5 | GG2: 5 | GH2: 8 | GL2: 3 | GM2: 3 | GN2: 3 | GO2: 3 | GP2: 6 | GQ2: 12 | GR2: 2 | GS2: 3 | GT2: 2 | GU2: 7 | GV2: 2 | GW2: 7 | GX2: 3 | GY2: 2 | GZ2: 6 | HA2: 2 | HB2: 2 | HC2: 2 | HD2: 3 | HE2: 3 | HF2: 5 | HG2: 2 | HH2: 2 | HI2: 2 | HJ2: 3 | HK2: 3 | HL2: 4 | HM2: 2 | HN2: 3 | HO2: 4 | HP2: 6 | HQ2: 8 | HR2: 5 | HS2: 3 | HT2: 3 | HU2: 3 | HV2: 4 | HW2: 5 | HX2: 2 | HY2: 2 | HZ2: 4 | IA2: 3 | IB2: 2 | IC2: 3 | ID2: 3 | IE2: 3.5 | IF2: 4.2 | IG2: 3 | IH2: 2 | II2: 5 | IJ2: 4 | IK2: 2 | IL2: 6 | IM2: 2 | IN2: 5 | IO2: 5 | IP2: 4 | IQ2: 5 | IR2: 5 | IS2: 6 | IT2: 5 | IU2: 5 | NN2: =SUM(M2:AQ2) -> 0 | NO2: =SUM(AR2:BS2) -> 0 | NP2: =SUM(BT2:CX2) -> 0 | NQ2: =SUM(CY2:EB2) -> 0 | NR2: =SUM(EC2:FG2) -> 26.4 | NS2: =SUM(FH2:GK2) -> 52 | NT2: =SUM(GL2:HP2) -> 112 | NU2: =SUM(HQ2:IU2) -> 121.7 | NV2: =SUM(IV2:JY2) -> 0 | NW2: =SUM(JZ2:LD2) -> 0 | NX2: =SUM(LE2:MH2) -> 0 | NY2: =SUM(MI2:NM2) -> 0 | NZ2: =SUM(DA2:NO2) -> 312.1
A3: A00367 | B3: Tamara | C3: Baysinger | D3: I | E3: =SUM(M3:NM3) -> 436.6 | I3: =+M3+N3+O3+Q3+S3+U3+X3+Z3+AH3+AL3+AO3+AP3+AS3+AW3+BB3+BE3+BI3+BJ3+BK3+BT3+BV3+BY3+CB3+CC3+CF3+CG3+CS3+CU3 -> 100.7 | J3: =+P3+R3+T3+W3+Y3+AC3+AD3+AE3+AI3+AK3+AM3+AY3+AZ3+BA3+BH3+BQ3+BR3+BS3+CH3+CI3+CN3+CO3+CV3+CW3+CX3 -> 196.8 | K3: =+V3+AJ3+AQ3+AU3+AX3+BF3+BW3+BZ3+CA3+CD3+CK3+CQ3 -> 139.1 | L3: =+E3-I3-J3-K3 -> 0 | M3: 2.5 | N3: 3.4 | O3: 3.9 | P3: 7.2 | Q3: 4.3 | R3: 5.7 | S3: 3.2 | T3: 8.7 | U3: 4.6 | V3: 12.1 | W3: 9 | X3: 4.4 | Y3: 6.2 | Z3: 4.1 | AC3: 8.1 | AD3: 9.5 | AE3: 8.9 | AH3: 2 | AI3: 8.2 | AJ3: 12.2 | AK3: 8 | AL3: 3.3 | AM3: 8.3 | AO3: 3.6 | AP3: 3.7 | AQ3: 14 | AS3: 4.5 | AU3: 10.7 | AW3: 4.5 | AX3: 12.5 | AY3: 6 | AZ3: 6.8 | BA3: 9.8 | BB3: 2.5 | BE3: 3 | BF3: 10.1 | BH3: 9.7 | BI3: 4 | BJ3: 2.7 | BK3: 4.7 | BQ3: 7.3 | BR3: 9 | BS3: 6.5 | BT3: 4.8 | BV3: 2.7 | BW3: 10.3 | BY3: 4.7 | BZ3: 12 | CA3: 12 | CB3: 3.3 | CC3: 2.5 | CD3: 10.3 | CF3: 3 | CG3: 3.1 | CH3: 9.3 | CI3: 5.3 | CK3: 11.2 | CN3: 6.1 | CO3: 8 | CQ3: 11.7 | CS3: 2.7 | CU3: 5 | CV3: 7.2 | CW3: 9.6 | CX3: 8.4 | NN3: =SUM(M3:AQ3) -> 169.1 | NO3: =SUM(AR3:BS3) -> 114.3 | NP3: =SUM(BT3:CX3) -> 153.2 | NQ3: =SUM(CY3:EB3) -> 0 | NR3: =SUM(EC3:FG3) -> 0 | NS3: =SUM(FH3:GK3) -> 0 | NT3: =SUM(GL3:HP3) -> 0 | NU3: =SUM(HQ3:IU3) -> 0 | NV3: =SUM(IV3:JY3) -> 0 | NW3: =SUM(JZ3:LD3) -> 0 | NX3: =SUM(LE3:MH3) -> 0 | NY3: =SUM(MI3:NM3) -> 0 | NZ3: =SUM(DA3:NO3) -> 283.4
A4: A00274 | B4: Jill | C4: Brewster | D4: I | E4: =SUM(M4:NM4) -> 297 | I4: =SUM(M4:CX4)-BJ4+SUM(CY4:FG4)-ED4-EJ4-EY4 -> 266.8 | J4: =+BJ4+ED4+EJ4+EY4 -> 30.2 | K4: 0 | L4: =+E4-I4-J4-K4 -> 4.6185278e-14 | M4: 2.4 | O4: 1.4 | P4: 2.4 | Q4: 1.4 | V4: 1.3 | W4: 2.5 | X4: 0.8 | Y4: 1.3 | Z4: 1.1 | AB4: 0.7 | AC4: 2.3 | AD4: 0.8 | AE4: 1.2 | AF4: 1.8 | AG4: 1.6 | AH4: 2.2 | AI4: 3.2 | AJ4: 1.2 | AL4: 1.4 | AN4: 0.9 | AO4: 1.1 | AR4: 1 | AS4: 1.1 | AT4: 2.2 | AU4: 1.7 | AX4: 2 | AY4: 1.4 | AZ4: 2.8 | BA4: 2.9 | BB4: 2 | BC4: 3.8 | BD4: 2.1 | BE4: 2.6 | BF4: 3 | BG4: 3.7 | BH4: 1.6 | BJ4: 8.2 | BK4: 0.6 | BN4: 3.2 | BP4: 3.8 | BR4: 4.1 | BS4: 2 | BT4: 1.4 | BU4: 4.6 | BV4: 0.5 | BX4: 1 | BY4: 1.2 | BZ4: 0.8 | CA4: 2.1 | CB4: 0.7 | CD4: 1.2 | CF4: 1.1 | CG4: 0.9 | CH4: 2.9 | CI4: 1.9 | CK4: 2.3 | CM4: 0.5 | CN4: 0.6 | CO4: 2.5 | CP4: 1.3 | CQ4: 0.9 | CS4: 1.8 | CT4: 2.5 | CU4: 2.6 | CV4: 1.5 | CW4: 3.6 | CX4: 2.5 | CY4: 4.8 | CZ4: 3.2 | DB4: 4.2 | DD4: 3 | DE4: 1.1 | DF4: 3 | DG4: 2.8 | DH4: 4.8 | DI4: 3.5 | DJ4: 4 | DK4: 3.5 | DL4: 3.8 | DM4: 4 | DN4: 4.5 | DO4: 3.8 | DP4: 3.8 | DQ4: 4.5 | DR4: 3 | DS4: 2.8 | DT4: 2.5 | DU4: 2 | DV4: 3 | DW4: 1.9 | DX4: 1.7 | DY4: 4.4 | DZ4: 2.3 | EA4: 3.3 | EB4: 2.9 | EC4: 1.9 | ED4: 7.1 | EE4: 3 | EF4: 1 | EG4: 1.1 | EH4: 2.5 | EI4: 1.8 | EJ4: 7.7 | EL4: 2 | EM4: 2.6 | EN4: 2 | EO4: 1.2 | EQ4: 2.1 | ER4: 1.6 | ES4: 1.8 | ET4: 2.2 | EU4: 2.2 | EV4: 3.4 | EX4: 2.9 | EY4: 7.2 | FA4: 3.8 | FB4: 5 | FC4: 1.8 | FF4: 3.8 | FG4: 1.5 | NN4: =SUM(M4:AQ4) -> 33 | NO4: =SUM(AR4:BS4) -> 55.8 | NP4: =SUM(BT4:CX4) -> 42.9 | NQ4: =SUM(CY4:EB4) -> 92.1 | NR4: =SUM(EC4:FG4) -> 73.2 | NS4: =SUM(FH4:GK4) -> 0 | NT4: =SUM(GL4:HP4) -> 0 | NU4: =SUM(HQ4:IU4) -> 0 | NV4: =SUM(IV4:JY4) -> 0 | NW4: =SUM(JZ4:LD4) -> 0 | NX4: =SUM(LE4:MH4) -> 0 | NY4: =SUM(MI4:NM4) -> 0 | NZ4: =SUM(DA4:NO4) -> 246.1
A5: A00003 | B5: Guy | C5: Cheek | D5: II | F5: =SUM(M5:NM5) -> 1059.7 | I5: =+M5+N5+O5+P5+Q5+R5+S5+U5+V5+W5+X5+Z5+AA5+AC5+AD5+AE5+AG5+AJ5+AK5+AM5+AO5+AQ5+AR5+AS5+AU5+AV5+AW5+AX5+AY5+BF5+BI5+BK5+BM5+BN5+BP5+BR5+BS5+BT5+BU5+BY5+BZ5+CB5+CE5+CG5+CH5+CI5+CK5+CN5+CO5+CQ5+CR5+CU5+CW5+CX5+DB5+DC5+DH5+DI5+DJ5+DL5+DT5+DW5+FN5+FO5+FP5+FQ5+FS5+FT5+FX5+GB5+GI5+GJ5+GL5+GM5+GR5+GS5+GT5+GW5+GY5+HF5+HJ5+HL5+HO5+HR5+HS5+HT5+HU5+HV5+HX5+HY5+HZ5+IA5+IB5+IC5+IE5+IG5+IS5+IU5 -> 275.7 | J5: =+AF5+AH5+AL5+AN5+BB5+BH5+BJ5+BQ5+BV5+BW5+BX5+CA5+CD5+CP5+DA5+DD5+DE5+DG5+DM5+DN5+DO5+DP5+DQ5+DR5+DU5+DV5+DX5+DZ5+EA5+EB5+FH5+FI5+FJ5+FK5+FR5+FU5+FV5+FY5+FZ5+GA5+GC5+GD5+GE5+GG5+GK5+GN5+GO5+GP5+GQ5+GU5+GX5+GZ5+HA5+HB5+HC5+HD5+HE5+HG5+HH5+HK5+HM5+HN5+HW5+ID5+IF5+IH5+II5+IJ5+IK5+IM5+IN5+IO5+IR5+IT5+IP5+IQ5 -> 503.1 | K5: =+T5+AI5+AP5+AT5+BE5+BO5+BL5+CY5+CZ5+DF5+DK5+DS5+DY5+FL5+FW5+GF5+GV5+HI5+HP5+IL5 -> 280.9 | L5: =+F5-I5-J5-K5 -> 0 | M5: 1.4 | N5: 1 | O5: 3.4 | P5: 1 | Q5: 1 | R5: 2.3 | S5: 1.4 | T5: 10.4 | U5: 3 | V5: 3.9 | W5: 1.4 | X5: 1.4 | Z5: 4.4 | AA5: 1 | AC5: 4.6 | AD5: 1 | AE5: 3.2 | AF5: 5.8 | AG5: 1.4 | AH5: 5.1 | AI5: 11.3 | AJ5: 3.8 | AK5: 1 | AL5: 8.6 | AM5: 4.8 | AN5: 9.6 | AO5: 4.4 | AP5: 18.5 | AQ5: 1 | AR5: 1.4 | AS5: 3.7 | AT5: 15.4 | AU5: 1.4 | AV5: 1 | AW5: 4.2 | AX5: 2.6 | AY5: 4.4 | BB5: 8.8 | BE5: 14.4 | BF5: 1.4 | BH5: 8.9 | BI5: 3.5 | BJ5: 8.5 | BK5: 1.4 | BL5: 11.4 | BM5: 1.4 | BN5: 1.4 | BO5: 11.5 | BP5: 1 | BQ5: 8.5 | BR5: 1.4 | BS5: 1.4 | BT5: 1.4 | BU5: 1.4 | BV5: 9.8 | BW5: 5.8 | BX5: 5.8 | BY5: 1.4 | BZ5: 1 | CA5: 6.9 | CB5: 1.4 | CD5: 6.4 | CE5: 1 | CG5: 1 | CH5: 1.4 | CI5: 1.4 | CK5: 3.5 | CN5: 1.4 | CO5: 1.4 | CP5: 6.4 | CQ5: 4.2 | CR5: 1.4 | CU5: 1.4 | CW5: 1.4 | CX5: 1.4 | CY5: 10.3 | CZ5: 12.5 | DA5: 5.6 | DB5: 2.3 | DC5: 2.5 | DD5: 5.9 | DE5: 5.7 | DF5: 17.1 | DG5: 5.7 | DH5: 4.9 | DI5: 2.8 | DJ5: 3.5 | DK5: 13.2 | DL5: 4.7 | DM5: 8.6 | DN5: 6.4 | DO5: 8.1 | DP5: 8.6 | DQ5: 7.5 | DR5: 8.6 | DS5: 12.4 | DT5: 2.8 | DU5: 7 | DV5: 5.6 | DW5: 4.6 | DX5: 6.4 | DY5: 12.6 | DZ5: 5.2 | EA5: 6.7 | EB5: 7.5 | FH5: 8.6 | FI5: 7.4 | FJ5: 6.8 | FK5: 5.2 | FL5: 10.1 | FN5: 4.4 | FO5: 4.2 | FP5: 2.7 | FQ5: 4.1 | FR5: 5.1 | FS5: 2.2 | FT5: 1.7 | FU5: 5.1 | FV5: 5.3 | FW5: 14.6 | FX5: 3.9 | FY5: 7.3 | FZ5: 5.5 | GA5: 5.2 | GB5: 4.8 | GC5: 9.7 | GD5: 7.2 | GE5: 5.3 | GF5: 20.2 | GG5: 5.9 | GI5: 4.6 | GJ5: 2.9 | GK5: 7.3 | GL5: 5 | GM5: 3.3 | GN5: 7.8 | GO5: 8.8 | GP5: 5.2 | GQ5: 6.6 | GR5: 4.9 | GS5: 2.5 | GT5: 4 | GU5: 6.6 | GV5: 20.9 | GW5: 4.6 | GX5: 5.2 | GY5: 5 | GZ5: 5.7 | HA5: 5.3 | HB5: 5.6 | HC5: 5.7 | HD5: 6.5 | HE5: 5.2 | HF5: 3.6 | HG5: 5.7 | HH5: 6.6 | HI5: 14.6 | HJ5: 4.3 | HK5: 6.5 | HL5: 4.3 | HM5: 7.2 | HN5: 7.3 | HO5: 4.3 | HP5: 10.9 | HR5: 2.7 | HS5: 4 | HT5: 3.6 | HU5: 4.6 | HV5: 3.5 | HW5: 5.2 | HX5: 3.9 | HY5: 3.2 | HZ5: 3 | IA5: 2.5 | IB5: 3.2 | IC5: 3.6 | ID5: 7.3 | IE5: 3.5 | IF5: 6.8 | IG5: 4.7 | IH5: 5.5 | II5: 5.1 | IJ5: 6 | IK5: 8 | IL5: 18.6 | IM5: 7.1 | IN5: 5.5 | IO5: 5.6 | IP5: 5.1 | IQ5: 5.2 | IR5: 6.1 | IS5: 4.6 | IT5: 6.2 | IU5: 4.8 | NN5: =SUM(M5:AQ5) -> 121.1 | NO5: =SUM(AR5:BS5) -> 119 | NP5: =SUM(BT5:CX5) -> 68.6 | NQ5: =SUM(CY5:EB5) -> 215.3 | NR5: =SUM(EC5:FG5) -> 0 | NS5: =SUM(FH5:GK5) -> 177.3 | NT5: =SUM(GL5:HP5) -> 199.7 | NU5: =SUM(HQ5:IU5) -> 158.7 | NV5: =SUM(IV5:JY5) -> 0 | NW5: =SUM(JZ5:LD5) -> 0 | NX5: =SUM(LE5:MH5) -> 0 | NY5: =SUM(MI5:NM5) -> 0 | NZ5: =SUM(DA5:NO5) -> 968.3
A6: A00002 | B6: Sandy | C6: Cheek | D6: I | E6: =SUM(M6:NM6) -> 1331.2 | I6: =+M6+O6+P6+R6+S6+Y6+AA6+AB6+AF6+AH6+AI6+AT6+AU6+AV6+AW6+AY6+AZ6+BA6+BF6+BG6+BJ6+BQ6+BS6+BV6+BX6+BZ6+CA6+CC6+CE6+CF6+CG6+CI6+CJ6+CM6+CN6+CS6+CV6+CY6+DC6+DD6+DE6+DH6+DI6+DJ6+DK6+DN6+DQ6+DR6+DS6+DT6+DY6+DZ6+EA6+EB6+EC6+ED6+EF6+EH6+EI6+EK6+EN6+EO6+EP6+ET6+EU6+EV6+EW6+EX6+EY6+FA6+FB6+FE6+FF6+FG6+FH6+FI6+FK6+FL6+FN6+FO6+FP6+FS6+FT6+FU6+FW6+FX6+FY6+FZ6+GB6+GC6+GD6+GE6+GG6+GI6+GJ6+GM6+GP6+GR6+GS6+GT6+GU6+GW6+GX6+GY6+HA6+HB6+HC6+HE6+HF6+HG6+HH6+HJ6+HL6+HM6+HN6+HO6+HR6+HS6+HT6+HV6+HW6+HZ6+IB6+ID6+IF6+IG6+IH6+II6+IN6+IO6+IP6+IQ6+IR6+IS6+IT6+IU6 -> 492.7 | J6: =+N6+Q6+T6+U6+V6+W6+X6+Z6+AC6+AD6+AE6+AG6+AJ6+AK6+AL6+AM6+AN6+AO6+AP6+AQ6+AR6+AS6+AX6+BB6+BC6+BD6+BH6+BI6+BK6+BL6+BM6+BN6+BO6+BP6+BR6+BT6+BW6+BY6+CB6+CD6+CH6+CL6+CO6+CQ6+CT6+CU6+CW6+CX6+DB6+DL6+DM6+DO6+DP6+DU6+DW6+DX6+EE6+EG6+EJ6+EM6+EQ6+EZ6+FC6+FD6+EL6+FJ6+FM6+FQ6+FV6+GA6+GK6+GL6+GN6+GO6+GQ6+HD6+HK6+HP6+HU6+HX6+IA6+IC6+IE6+IK6+IM6 -> 565.2 | K6: =+BE6+BU6+CK6+CP6+CR6+DA6+DF6+DV6+DG6+FR6+GF6+GH6+GV6+GZ6+HI6+HQ6+HY6+IJ6+IL6 -> 273.3 | L6: =+E6-I6-J6-K6 -> 0 | M6: 5 | N6: 5.7 | O6: 5 | P6: 2.8 | Q6: 5.6 | R6: 4.8 | S6: 4.5 | T6: 5.4 | U6: 6.3 | V6: 5.5 | W6: 5.6 | X6: 5.1 | Y6: 4.9 | Z6: 6.6 | AA6: 4.8 | AB6: 5 | AC6: 5.5 | AD6: 5.3 | AE6: 5.2 | AF6: 2.8 | AG6: 5.8 | AH6: 3.7 | AI6: 3.2 | AJ6: 5.7 | AK6: 5.1 | AL6: 5.2 | AM6: 6.2 | AN6: 5.9 | AO6: 5.2 | AP6: 5.1 | AQ6: 5.1 | AR6: 7.7 | AS6: 5.1 | AT6: 4 | AU6: 2.3 | AV6: 2.9 | AW6: 4.5 | AX6: 5.3 | AY6: 3.8 | AZ6: 1.8 | BA6: 2.1 | BB6: 6 | BC6: 6 | BD6: 6 | BE6: 13 | BF6: 4.6 | BG6: 2.6 | BH6: 5.5 | BI6: 6 | BJ6: 3.9 | BK6: 6.9 | BL6: 9.4 | BM6: 6 | BN6: 6.5 | BO6: 5.8 | BP6: 6.2 | BQ6: 3.7 | BR6: 8.5 | BS6: 4.2 | BT6: 9.5 | BU6: 10.8 | BV6: 3.4 | BW6: 7.2 | BX6: 3.7 | BY6: 8 | BZ6: 5 | CA6: 4.5 | CB6: 9.8 | CC6: 4 | CD6: 5.6 | CE6: 3.8 | CF6: 1.8 | CG6: 3.7 | CH6: 7.8 | CI6: 4.3 | CJ6: 3.7 | CK6: 11.6 | CL6: 6.7 | CM6: 2.3 | CN6: 3.9 | CO6: 7.3 | CP6: 10.4 | CQ6: 8.3 | CR6: 14.7 | CS6: 2.9 | CT6: 5.7 | CU6: 6.6 | CV6: 2.6 | CW6: 7.3 | CX6: 6.1 | CY6: 4.8 | DA6: 12.1 | DB6: 7.8 | DC6: 5 | DD6: 3.6 | DE6: 3.9 | DF6: 14 | DG6: 12.3 | DH6: 3.9 | DI6: 1.7 | DJ6: 3.8 | DK6: 2 | DL6: 8.1 | DM6: 9.5 | DN6: 4.7 | DO6: 5.2 | DP6: 6.1 | DQ6: 4.1 | DR6: 2.7 | DS6: 4.3 | DT6: 2.5 | DU6: 8.3 | DV6: 10.4 | DW6: 5.8 | DX6: 8.5 | DY6: 4.7 | DZ6: 3.4 | EA6: 4.1 | EB6: 4.9 | EC6: 4.1 | ED6: 3.3 | EE6: 9.9 | EF6: 3 | EG6: 8.8 | EH6: 4.5 | EI6: 4 | EJ6: 9.4 | EK6: 3.9 | EL6: 5.2 | EM6: 9.7 | EN6: 4.8 | EO6: 3.8 | EP6: 3.6 | EQ6: 7.2 | ET6: 3.6 | EU6: 3.1 | EV6: 4.7 | EW6: 4.7 | EX6: 3.9 | EY6: 5 | EZ6: 6.1 | FA6: 3.3 | FB6: 3.1 | FC6: 5.5 | FD6: 6.4 | FE6: 3.3 | FF6: 2.5 | FG6: 1.7 | FH6: 4.8 | FI6: 4.3 | FJ6: 6.6 | FK6: 3.3 | FL6: 3.2 | FM6: 5.2 | FN6: 2.7 | FO6: 3.3 | FP6: 1.2 | FQ6: 5.1 | FR6: 19.4 | FS6: 3.9 | FT6: 3.5 | FU6: 3 | FV6: 5.5 | FW6: 3.5 | FX6: 4.3 | FY6: 5 | FZ6: 3 | GA6: 6.5 | GB6: 4.2 | GC6: 3.5 | GD6: 3.5 | GE6: 5 | GF6: 16.4 | GG6: 5 | GH6: 10.3 | GI6: 2.8 | GJ6: 4.8 | GK6: 5.3 | GL6: 6.7 | GM6: 2.8 | GN6: 7.7 | GO6: 8.7 | GP6: 4.8 | GQ6: 5.2 | GR6: 4.4 | GS6: 2.2 | GT6: 3 | GU6: 5 | GV6: 20.3 | GW6: 4 | GX6: 3.6 | GY6: 3.8 | GZ6: 14.8 | HA6: 2.3 | HB6: 4.2 | HC6: 4.1 | HD6: 6 | HE6: 3.9 | HF6: 2.3 | HG6: 3.5 | HH6: 2.7 | HI6: 11.9 | HJ6: 4.7 | HK6: 8.3 | HL6: 4 | HM6: 2.8 | HN6: 3.7 | HO6: 3.6 | HP6: 6.4 | HQ6: 12.2 | HR6: 1.9 | HS6: 3 | HT6: 2.6 | HU6: 5.2 | HV6: 1.8 | HW6: 1.9 | HX6: 9 | HY6: 11.2 | HZ6: 2.8 | IA6: 8 | IB6: 3.6 | IC6: 9.4 | ID6: 3.9 | IE6: 5.5 | IF6: 3.8 | IG6: 4.1 | IH6: 3.5 | II6: 3.5 | IJ6: 32.6 | IK6: 7.6 | IL6: 14.9 | IM6: 5.9 | IN6: 4.4 | IO6: 3.6 | IP6: 2.9 | IQ6: 2.9 | IR6: 3.9 | IS6: 3 | IT6: 4.6 | IU6: 3.3 | NN6: =SUM(M6:AQ6) -> 157.6 | NO6: =SUM(AR6:BS6) -> 150.3 | NP6: =SUM(BT6:CX6) -> 193 | NQ6: =SUM(CY6:EB6) -> 172.2 | NR6: =SUM(EC6:FG6) -> 142.1 | NS6: =SUM(FH6:GK6) -> 158.1 | NT6: =SUM(GL6:HP6) -> 171.4 | NU6: =SUM(HQ6:IU6) -> 186.5 | NV6: =SUM(IV6:JY6) -> 0 | NW6: =SUM(JZ6:LD6) -> 0 | NX6: =SUM(LE6:MH6) -> 0 | NY6: =SUM(MI6:NM6) -> 0 | NZ6: =SUM(DA6:NO6) -> 1133.4
A7: A00374 | B7: Katie | C7: Dixon | D7: II | F7: =SUM(M7:NM7) -> 756.4 | I7: =+Q7+U7+BC7+BF7+BK7+BR7+BY7+CL7+CO7+DB7+DW7+DX7+FZ7 -> 56 | J7: =+M7+N7+P7+R7+S7+T7+V7+W7+X7+Y7+Z7+AA7+AB7+BD7+BE7+BG7+BH7+BI7+BJ7+BL7+BN7+BS7+BT7+BU7+BW7+BX7+BZ7+CA7+CB7+CC7+CE7+CF7+CH7+CJ7+CM7+CN7+CP7+CQ7+BM7+DA7+DT7+DV7+EG7+EJ7+EU7+EX7+FL7+FX7 -> 336.6 | K7: =+O7+BB7+BO7+BP7+BQ7+BV7+CD7+CG7+CI7+CK7+CR7+CZ7+DS7+DY7+ED7+EH7+EZ7+FB7+FF7+FH7+FJ7+FY7+GB7+GE7+GH7 -> 363.8 | L7: =+F7-I7-J7-K7 -> 0 | M7: 9.4 | N7: 6.2 | O7: 14.8 | P7: 8.7 | Q7: 3 | R7: 5.1 | S7: 5.8 | T7: 8.4 | U7: 3 | V7: 6.4 | W7: 5.1 | X7: 5.8 | Y7: 5.2 | Z7: 6.9 | AA7: 8.4 | AB7: 5.2 | BB7: 12.4 | BC7: 3.4 | BD7: 5.7 | BE7: 7.3 | BF7: 4.8 | BG7: 6.6 | BH7: 7.1 | BI7: 5.2 | BJ7: 7 | BK7: 4.6 | BL7: 6.6 | BM7: 5.4 | BN7: 7.9 | BO7: 10.4 | BP7: 19.4 | BQ7: 11.4 | BR7: 4.9 | BS7: 5.3 | BT7: 6.4 | BU7: 7.9 | BV7: 19.6 | BW7: 6.6 | BX7: 8.8 | BY7: 4.3 | BZ7: 9.1 | CA7: 5.5 | CB7: 8.4 | CC7: 9 | CD7: 14.8 | CE7: 6.6 | CF7: 6.1 | CG7: 11.3 | CH7: 7.7 | CI7: 10.4 | CJ7: 8.6 | CK7: 18.7 | CL7: 4.1 | CM7: 7.4 | CN7: 8 | CO7: 4.4 | CP7: 7.4 | CQ7: 9 | CR7: 26.4 | CZ7: 12.4 | DA7: 7.8 | DB7: 5 | DS7: 17 | DT7: 6 | DV7: 8 | DW7: 5 | DX7: 5 | DY7: 14 | ED7: 10.8 | EG7: 7.4 | EH7: 15.7 | EJ7: 6.4 | EU7: 6.9 | EX7: 5.3 | EZ7: 12.5 | FB7: 19 | FF7: 11.3 | FH7: 10.4 | FJ7: 14.6 | FL7: 5.7 | FX7: 9.9 | FY7: 13.1 | FZ7: 4.5 | GB7: 12.4 | GE7: 20.5 | GH7: 10.5 | NN7: =SUM(M7:AQ7) -> 107.4 | NO7: =SUM(AR7:BS7) -> 135.4 | NP7: =SUM(BT7:CX7) -> 236.5 | NQ7: =SUM(CY7:EB7) -> 80.2 | NR7: =SUM(EC7:FG7) -> 95.3 | NS7: =SUM(FH7:GK7) -> 101.6 | NT7: =SUM(GL7:HP7) -> 0 | NU7: =SUM(HQ7:IU7) -> 0 | NV7: =SUM(IV7:JY7) -> 0 | NW7: =SUM(JZ7:LD7) -> 0 | NX7: =SUM(LE7:MH7) -> 0 | NY7: =SUM(MI7:NM7) -> 0 | NZ7: =SUM(DA7:NO7) -> 507.5
A8: A00307 | B8: Teresa | C8: Dixon | D8: II | F8: =SUM(M8:NM8) -> 1469 | I8: =+N8+Q8+T8+U8+V8+W8+X8+AA8+AB8+AC8+AE8+AF8+AH8+AI8+AJ8+AL8+AM8+AN8+AO8+AP8+AR8+AS8+AT8+AU8+AV8+AW8+AX8+AY8+AZ8+BA8+BB8+BC8+BD8+BG8+BH8+BJ8+BK8+BL8+BN8+BO8+BP8+BQ8+BR8+BU8+BV8+BW8+BX8+BY8+BZ8+CB8+CC8+CD8+CE8+CF8+CH8+CI8+CJ8+CM8+CP8+CQ8+CR8+CS8+CT8+CU8+CW8+R8+Y8+CY8+CZ8+DA8+DD8+DE8+DF8+DG8+DH8+DK8+DL8+DN8+DO8+DP8+DR8+DS8+DT8+DU8+DV8+DY8+DZ8+EA8+EB8+EC8+EG8+EH8+EI8+EJ8+EM8+EN8+EO8+ET8+EU8+EW8+FE8+FI8+FN8+FO8+FP8+FQ8+FR8+FS8+FT8+FV8+FW8+FX8+FY8+FZ8+GC8+GE8+GH8+GJ8+GK8+GM8+GS8+GT8+GX8+HE8+HG8+HI8+HL8+HM8+HN8+HO8+HP8+HT8+HU8+HV8+IB8+IC8+ID8+IG8+IH8+II8+IJ8+IO8+IP8+IQ8+IU8 -> 588.2 | J8: =+M8+O8+P8+Z8+AD8+AG8+AK8+AQ8+BE8+BF8+BI8+BM8+BS8+BT8+CA8+CG8+CK8+CL8+CN8+CV8+CX8+DC8+DI8+DJ8+DM8+DQ8+EF8+EK8+EL8+EP8+EQ8+ER8+ES8+EV8+FA8+FD8+FF8+FH8+FU8+GD8+GF8+GG8+GI8+GL8+GO8+GQ8+GR8+GU8+GV8+GY8+GZ8+HA8+HB8+HC8+HF8+HH8+HJ8+HK8+HQ8+HR8+HS8+HW8+HX8+HZ8+IA8+IE8+IF8+IM8+IN8+IR8 -> 477.5 | K8: =+S8+CO8+DB8+DW8+DX8+ED8+EE8+EX8+EY8+EZ8+FB8+FC8+FG8+FJ8+FK8+FL8+FM8+GA8+GB8+GN8+GP8+GW8+HD8+HY8+IK8+IL8+IS8+IT8 -> 403.3 | L8: =+F8-I8-J8-K8 -> 0 | M8: 7.4 | N8: 4.1 | O8: 5.4 | P8: 5.1 | Q8: 3.9 | R8: 4.8 | S8: 10.2 | T8: 3.3 | U8: 4.2 | V8: 4.9 | W8: 4.7 | X8: 4.5 | Y8: 5 | Z8: 7.7 | AA8: 4.6 | AB8: 3.6 | AC8: 4.8 | AD8: 6.4 | AE8: 4 | AF8: 3.8 | AG8: 6.8 | AH8: 3.7 | AI8: 4.6 | AJ8: 3.5 | AK8: 8.4 | AL8: 3.7 | AM8: 4.4 | AN8: 4.8 | AO8: 4.3 | AP8: 4.3 | AQ8: 9.6 | AR8: 3.6 | AS8: 3.9 | AT8: 2.4 | AU8: 3.3 | AV8: 3.4 | AW8: 4.1 | AX8: 4.5 | AY8: 4.5 | AZ8: 4.3 | BA8: 4.3 | BB8: 2.7 | BC8: 3.4 | BD8: 4.6 | BE8: 5.6 | BF8: 7.2 | BG8: 4.6 | BH8: 4.3 | BI8: 7.4 | BJ8: 4.3 | BK8: 2.9 | BL8: 4.4 | BM8: 6.9 | BN8: 4.2 | BO8: 3.9 | BP8: 3.5 | BQ8: 4.8 | BR8: 4.3 | BS8: 6.3 | BT8: 6.7 | BU8: 4.4 | BV8: 4.3 | BW8: 3.5 | BX8: 4 | BY8: 4.4 | BZ8: 4.5 | CA8: 5.7 | CB8: 1.9 | CC8: 4.6 | CD8: 4.1 | CE8: 3.8 | CF8: 3.4 | CG8: 8.1 | CH8: 4.3 | CI8: 3.3 | CJ8: 3.7 | CK8: 5.9 | CL8: 6.2 | CM8: 3.8 | CN8: 7.1 | CO8: 11.9 | CP8: 2.8 | CQ8: 4.7 | CR8: 3.9 | CS8: 2.8 | CT8: 4.4 | CU8: 3.1 | CV8: 6.4 | CW8: 2.9 | CX8: 5.2 | CY8: 2.1 | CZ8: 3.1 | DA8: 4.8 | DB8: 12 | DC8: 8.3 | DD8: 4.2 | DE8: 4.1 | DF8: 3.6 | DG8: 4.1 | DH8: 4.9 | DI8: 7.1 | DJ8: 6.2 | DK8: 3.7 | DL8: 4.6 | DM8: 5.3 | DN8: 4.8 | DO8: 4.1 | DP8: 4.4 | DQ8: 9.1 | DR8: 4.5 | DS8: 4.3 | DT8: 3 | DU8: 4.2 | DV8: 3 | DW8: 11.6 | DX8: 10.2 | DY8: 4 | DZ8: 3.7 | EA8: 3.6 | EB8: 3.7 | EC8: 4.6 | ED8: 12.3 | EE8: 14.5 | EF8: 5.1 | EG8: 5 | EH8: 4.9 | EI8: 4 | EJ8: 4.2 | EK8: 7.5 | EL8: 8.2 | EM8: 4.7 | EN8: 4.4 | EO8: 2.9 | EP8: 5.1 | EQ8: 9 | ER8: 6.7 | ES8: 9.4 | ET8: 4.4 | EU8: 4.7 | EV8: 6.9 | EW8: 3.9 | EX8: 14.5 | EY8: 21.2 | EZ8: 19.1 | FA8: 8.6 | FB8: 24.8 | FC8: 13.1 | FD8: 5.2 | FE8: 4 | FF8: 7.4 | FG8: 10.6 | FH8: 6.2 | FI8: 3.8 | FJ8: 19.5 | FK8: 15.1 | FL8: 24.6 | FM8: 16.2 | FN8: 4.7 | FO8: 3.2 | FP8: 3.4 | FQ8: 2.7 | FR8: 4.6 | FS8: 3.4 | FT8: 3.8 | FU8: 8.8 | FV8: 4.9 | FW8: 4.3 | FX8: 3.9 | FY8: 3.6 | FZ8: 4.2 | GA8: 11.4 | GB8: 11.8 | GC8: 5 | GD8: 6.8 | GE8: 2.9 | GF8: 7.2 | GG8: 5.2 | GH8: 4.2 | GI8: 7.2 | GJ8: 4.9 | GK8: 4.6 | GL8: 5.3 | GM8: 4.9 | GN8: 13.9 | GO8: 9.1 | GP8: 15.5 | GQ8: 6.4 | GR8: 6 | GS8: 4.1 | GT8: 4.1 | GU8: 8.8 | GV8: 7.5 | GW8: 17.5 | GX8: 4.5 | GY8: 6.3 | GZ8: 5.2 | HA8: 5.1 | HB8: 5.7 | HC8: 9.1 | HD8: 13.1 | HE8: 4.7 | HF8: 5.3 | HG8: 3.5 | HH8: 5.7 | HI8: 5 | HJ8: 8.4 | HK8: 6.6 | HL8: 4.9 | HM8: 4.4 | HN8: 3.8 | HO8: 5 | HP8: 4.9 | HQ8: 9.5 | HR8: 8.6 | HS8: 5.1 | HT8: 4.6 | HU8: 4.5 | HV8: 4 | HW8: 5.2 | HX8: 7.3 | HY8: 10.6 | HZ8: 5.6 | IA8: 5.6 | IB8: 3.7 | IC8: 3.9 | ID8: 5 | IE8: 5.2 | IF8: 9.9 | IG8: 4.2 | IH8: 4.5 | II8: 3.1 | IJ8: 4 | IK8: 10.9 | IL8: 13.9 | IM8: 6.6 | IN8: 5.1 | IO8: 4.7 | IP8: 3.7 | IQ8: 4.1 | IR8: 5.3 | IS8: 12.8 | IT8: 10.5 | IU8: 3.8 | NN8: =SUM(M8:AQ8) -> 160.5 | NO8: =SUM(AR8:BS8) -> 123.6 | NP8: =SUM(BT8:CX8) -> 145.8 | NQ8: =SUM(CY8:EB8) -> 156.3 | NR8: =SUM(EC8:FG8) -> 260.9 | NS8: =SUM(FH8:GK8) -> 212.1 | NT8: =SUM(GL8:HP8) -> 214.3 | NU8: =SUM(HQ8:IU8) -> 195.5 | NV8: =SUM(IV8:JY8) -> 0 | NW8: =SUM(JZ8:LD8) -> 0 | NX8: =SUM(LE8:MH8) -> 0 | NY8: =SUM(MI8:NM8) -> 0 | NZ8: =SUM(DA8:NO8) -> 1318
A9: A00359 | B9: Wendy | C9: Friedrich | D9: II | F9: =SUM(M9:NM9) -> 144 | I9: =SUM(M9:CX9)+CY9+DD9+DE9+DF9+DH9+DK9+DL9+DM9+DR9+DU9+DW9+DY9+EF9+EM9+ET9+EU9+EV9+EW9+EX9+EY9+EZ9+FB9+FH9+FM9+FO9+FS9+FU9+FV9+GA9+GC9+GH9 -> 144 | J9: 0 | K9: 0 | L9: =+F9-I9-J9-K9 -> 0 | Y9: 1.5 | Z9: 1.5 | AA9: 1.5 | AB9: 1.5 | AD9: 1.5 | AE9: 1.5 | AH9: 1.5 | AK9: 1.5 | AL9: 1.5 | AM9: 1.5 | AT9: 1.5 | AV9: 1.5 | AZ9: 1.5 | BA9: 1.5 | BB9: 1.5 | BC9: 1.5 | BU9: 3 | BV9: 3 | BW9: 3 | BX9: 3 | CB9: 3 | CD9: 3 | CE9: 3 | CI9: 3 | CJ9: 3 | CK9: 3 | CP9: 3 | CQ9: 3 | CR9: 3 | CY9: 5 | DD9: 3 | DE9: 3 | DF9: 3 | DH9: 3 | DK9: 3 | DL9: 4 | DM9: 2 | DR9: 3 | DU9: 3 | DW9: 3 | DY9: 3 | EF9: 3 | EM9: 3 | ET9: 3 | EU9: 1 | EV9: 1 | EW9: 1 | EX9: 1 | EY9: 3 | EZ9: 3 | FB9: 3 | FH9: 3 | FM9: 1 | FO9: 3 | FS9: 1 | FU9: 5 | FV9: 3 | GA9: 1 | GC9: 3 | GH9: 1 | NN9: =SUM(M9:AQ9) -> 15 | NO9: =SUM(AR9:BS9) -> 9 | NP9: =SUM(BT9:CX9) -> 39 | NQ9: =SUM(CY9:EB9) -> 38 | NR9: =SUM(EC9:FG9) -> 22 | NS9: =SUM(FH9:GK9) -> 21 | NT9: =SUM(GL9:HP9) -> 0 | NU9: =SUM(HQ9:IU9) -> 0 | NV9: =SUM(IV9:JY9) -> 0 | NW9: =SUM(JZ9:LD9) -> 0 | NX9: =SUM(LE9:MH9) -> 0 | NY9: =SUM(MI9:NM9) -> 0 | NZ9: =SUM(DA9:NO9) -> 100
A10: A00338 | B10: Rachael | C10: Gibson | D10: III | G10: =SUM(M10:NM10) -> 236.3 | I10: =SUM(M10:CX10)-CH10+SUM(CY10:FG10)-EK10 -> 224 | J10: =+CH10+EK10 -> 12.3 | K10: 0 | L10: =+G10-I10-J10-K10 -> -1.7763568e-14 | M10: 0.38 | N10: 1.41 | O10: 1.54 | P10: 1.01 | Q10: 0.85 | R10: 0.15 | S10: 0.4 | T10: 0.47 | U10: 0.57 | V10: 1.36 | W10: 1.44 | X10: 0.5 | Y10: 0.44 | Z10: 0.51 | AA10: 0.37 | AB10: 0.63 | AC10: 0.99 | AD10: 0.6 | AE10: 0.93 | AF10: 0.58 | AG10: 0.39 | AH10: 0.55 | AI10: 0.99 | AJ10: 1.13 | AK10: 0.33 | AL10: 0.35 | AM10: 0.24 | AN10: 0.26 | AO10: 0.43 | AP10: 0.84 | AQ10: 1.26 | AR10: 1.8 | AS10: 0.6 | AT10: 0.3 | AU10: 0.2 | AV10: 0.7 | AW10: 0.6 | AX10: 1.8 | AY10: 1.2 | AZ10: 0.6 | BA10: 0.7 | BB10: 0.7 | BC10: 0.7 | BD10: 1.2 | BE10: 2.7 | BF10: 1.3 | BG10: 0.5 | BH10: 0.8 | BI10: 0.6 | BJ10: 0.8 | BK10: 0.7 | BL10: 2.8 | BM10: 0.7 | BN10: 0.3 | BO10: 0.4 | BP10: 1 | BQ10: 1.4 | BR10: 1.8 | BS10: 8.2 | BT10: 3.6 | BU10: 0.9 | BV10: 1.2 | BW10: 0.8 | BX10: 1.1 | BY10: 1.6 | BZ10: 2.9 | CA10: 2.9 | CB10: 2.1 | CC10: 1.1 | CD10: 1.2 | CE10: 0.8 | CF10: 0.7 | CG10: 1.2 | CH10: 6.4 | CI10: 2.5 | CJ10: 1.4 | CK10: 1.4 | CL10: 1.7 | CM10: 1.2 | CN10: 2.2 | CO10: 1.2 | CP10: 1.3 | CQ10: 1.7 | CR10: 1.5 | CS10: 1.2 | CT10: 0.9 | CU10: 3.2 | CV10: 4.7 | CW10: 1.7 | CX10: 1.6 | CY10: 2 | CZ10: 2 | DA10: 2 | DB10: 2 | DD10: 2 | DE10: 3 | DF10: 2 | DG10: 2 | DH10: 2 | DI10: 4 | DJ10: 2 | DK10: 1 | DL10: 2 | DM10: 2 | DN10: 1 | DO10: 1 | DP10: 5 | DQ10: 1 | DR10: 2 | DS10: 1 | DT10: 3 | DU10: 1 | DV10: 2 | DW10: 4 | DX10: 0 | DY10: 3 | DZ10: 1 | EA10: 1 | EB10: 1 | EC10: 3.4 | ED10: 0.9 | EE10: 3.8 | EF10: 1.1 | EG10: 2.1 | EH10: 1.4 | EI10: 1.7 | EJ10: 3.1 | EK10: 5.9 | EL10: 1.5 | EM10: 1.4 | EN10: 1.1 | EO10: 0.7 | EP10: 1.2 | EQ10: 0.9 | ER10: 3.1 | ES10: 4.8 | ET10: 1.7 | EU10: 1.5 | EV10: 2.1 | EW10: 1.9 | EX10: 1.6 | EY10: 1.9 | EZ10: 1.8 | FA10: 1.7 | FB10: 1.1 | FC10: 0.7 | FD10: 1.2 | FE10: 1.6 | FF10: 3.4 | FG10: 4.1 | NN10: =SUM(M10:AQ10) -> 21.9 | NO10: =SUM(AR10:BS10) -> 35.1 | NP10: =SUM(BT10:CX10) -> 57.9 | NQ10: =SUM(CY10:EB10) -> 57 | NR10: =SUM(EC10:FG10) -> 64.4 | NS10: =SUM(FH10:GK10) -> 0 | NT10: =SUM(GL10:HP10) -> 0 | NU10: =SUM(HQ10:IU10) -> 0 | NV10: =SUM(IV10:JY10) -> 0 | NW10: =SUM(JZ10:LD10) -> 0 | NX10: =SUM(LE10:MH10) -> 0 | NY10: =SUM(MI10:NM10) -> 0 | NZ10: =SUM(DA10:NO10) -> 174.4
A11: A00036 | B11: Carol | C11: Giles | D11: I | E11: =SUM(M11:NM11) -> 1097.2 | I11: =+M11+N11+O11+T11+V11+W11+Y11+AD11+AH11+AJ11+AL11+AQ11+AS11+AT11+AV11+AW11+AX11+BD11+BG11+BH11+BK11+BL11+BN11+BO11+BP11+BQ11+BS11+BT11+BV11+BY11+BZ11+CA11+CB11+CC11+CE11+CG11+CH11+CI11+CM11+CO11+CR11+CU11+CV11+CZ11+DA11+DC11+DG11+DH11+DI11+DJ11+DL11+DM11+DO11+DP11+DQ11+DS11+DT11+DU11+DX11+DZ11+EA11+EC11+EF11+EG11+EH11+EI11+EJ11+EM11+EN11+ER11+EW11+EY11+FA11+FB11+FC11+FE11+FF11+FH11+FK11+FM11+FN11+FQ11+FS11+FW11+FY11+FZ11+GA11+GC11+GD11+GE11+GF11+GG11+GJ11+GK11+GL11+GM11+GO11+GP11+GR11+GV11+GY11+HB11+HC11+HE11+HF11+HH11+HI11+HJ11+HK11+HL11+HN11+HQ11+HR11+HS11+HT11+HU11+HV11+HX11+HY11+IB11+IC11+ID11+IG11+II11+IJ11+IK11+IL11+IN11+IO11+IP11+IQ11+IT11 -> 455.5 | J11: =+Q11+R11+S11+U11+Z11+AA11+AB11+AC11+AF11+AG11+AI11+AK11+AM11+AN11+AO11+AP11+AR11+AU11+AY11+AZ11+BA11+BB11+BC11+BE11+BI11+BJ11+BU11+BX11+CF11+CL11+CQ11+CS11+CT11++CY11+DB11+DE11+DF11+DY11+EB11+ED11+EK11+EP11+ES11+EU11+FP11+FR11+FT11+GQ11+GS11+GU11+GZ11+HA11+HD11+HG11+HM11+HO11+HP11+IA11+IF11+IM11+IR11+IU11+IS11 -> 411.4 | K11: =+P11+X11+AE11+BR11+BW11+CD11+CN11+CP11+CW11+EL11+EO11+FO11+FV11+GB11+GI11+GW11+GX11 -> 230.3 | L11: =+E11-I11-J11-K11 -> 0 | M11: 2.4 | N11: 4.3 | O11: 1.5 | P11: 12 | Q11: 7.8 | R11: 8 | S11: 5.2 | T11: 3.8 | U11: 5.7 | V11: 4.3 | W11: 4.3 | X11: 10.6 | Y11: 4.3 | Z11: 9.4 | AA11: 5.5 | AB11: 6.6 | AC11: 5.3 | AD11: 3.2 | AE11: 14.8 | AF11: 6.1 | AG11: 7.2 | AH11: 4.8 | AI11: 7.9 | AJ11: 3.5 | AK11: 5.2 | AL11: 3.2 | AM11: 6.1 | AN11: 9.1 | AO11: 7.7 | AP11: 5.1 | AQ11: 4.9 | AR11: 5.1 | AS11: 5 | AT11: 2.8 | AU11: 5.2 | AV11: 3 | AW11: 3 | AX11: 2.6 | AY11: 5.9 | AZ11: 6.8 | BA11: 5.3 | BB11: 6.2 | BC11: 6.5 | BD11: 2 | BE11: 6.3 | BG11: 3.5 | BH11: 3.4 | BI11: 7 | BJ11: 5.7 | BK11: 2.4 | BL11: 5 | BN11: 4.1 | BO11: 3 | BP11: 3.1 | BQ11: 4.4 | BR11: 13.5 | BS11: 2.1 | BT11: 3.6 | BU11: 5.7 | BV11: 4.8 | BW11: 15.1 | BX11: 5.8 | BY11: 4.1 | BZ11: 2.8 | CA11: 1.6 | CB11: 1.7 | CC11: 2.2 | CD11: 13.2 | CE11: 4.3 | CF11: 6.2 | CG11: 4.9 | CH11: 3.1 | CI11: 2.4 | CL11: 5.4 | CM11: 4.7 | CN11: 13.7 | CO11: 4.5 | CP11: 13.2 | CQ11: 6.6 | CR11: 4.7 | CS11: 5.8 | CT11: 5.9 | CU11: 3.9 | CV11: 3.4 | CW11: 16.1 | CY11: 5.2 | CZ11: 2.6 | DA11: 3.7 | DB11: 6.8 | DC11: 4.3 | DE11: 5.7 | DF11: 8.3 | DG11: 3.2 | DH11: 5 | DI11: 2.7 | DJ11: 2.7 | DL11: 3.4 | DM11: 3.4 | DO11: 2 | DP11: 4.6 | DQ11: 3.6 | DS11: 4.6 | DT11: 2.6 | DU11: 2.1 | DX11: 2.6 | DY11: 5.4 | DZ11: 4.8 | EA11: 5 | EB11: 5.6 | EC11: 2.1 | ED11: 5.7 | EF11: 3.2 | EG11: 4.7 | EH11: 3.6 | EI11: 3.4 | EJ11: 3.7 | EK11: 5.4 | EL11: 12.3 | EM11: 4.7 | EN11: 4.7 | EO11: 10.6 | EP11: 6.4 | ER11: 4.8 | ES11: 5.8 | EU11: 5.9 | EW11: 4.7 | EY11: 3.9 | FA11: 2 | FB11: 3.6 | FC11: 3.5 | FE11: 2.9 | FF11: 4 | FH11: 4 | FK11: 3.5 | FM11: 2.7 | FN11: 4.3 | FO11: 10.3 | FP11: 8 | FQ11: 3.3 | FR11: 9.9 | FS11: 3.3 | FT11: 9.3 | FV11: 15 | FW11: 4.8 | FY11: 4 | FZ11: 2.6 | GA11: 2.2 | GB11: 11 | GC11: 2.9 | GD11: 4.2 | GE11: 1.5 | GF11: 4.6 | GG11: 2.7 | GI11: 11 | GJ11: 2.8 | GK11: 3.4 | GL11: 3.2 | GM11: 3.6 | GO11: 1 | GP11: 2.6 | GQ11: 7.3 | GR11: 1.2 | GS11: 8.5 | GU11: 8.9 | GV11: 3.1 | GW11: 23.8 | GX11: 14.1 | GY11: 3.6 | GZ11: 5.6 | HA11: 5.6 | HB11: 4.1 | HC11: 2.6 | HD11: 7.8 | HE11: 4.2 | HF11: 2.5 | HG11: 5.2 | HH11: 1.6 | HI11: 4.6 | HJ11: 2 | HK11: 2.3 | HL11: 2.4 | HM11: 6.2 | HN11: 4.2 | HO11: 5.3 | HP11: 7.3 | HQ11: 4.5 | HR11: 4.4 | HS11: 2.6 | HT11: 3.2 | HU11: 2.6 | HV11: 3.5 | HX11: 2 | HY11: 4.1 | IA11: 5.6 | IB11: 3.5 | IC11: 2.3 | ID11: 3.6 | IF11: 5.5 | IG11: 1.9 | II11: 5 | IJ11: 4.2 | IK11: 5 | IL11: 4.2 | IM11: 10 | IN11: 4.1 | IO11: 4.6 | IP11: 4.6 | IQ11: 4.4 | IR11: 8.6 | IS11: 5.2 | IT11: 2.6 | IU11: 6.1 | NN11: =SUM(M11:AQ11) -> 189.8 | NO11: =SUM(AR11:BS11) -> 122.9 | NP11: =SUM(BT11:CX11) -> 169.4 | NQ11: =SUM(CY11:EB11) -> 99.9 | NR11: =SUM(EC11:FG11) -> 111.6 | NS11: =SUM(FH11:GK11) -> 131.3 | NT11: =SUM(GL11:HP11) -> 154.4 | NU11: =SUM(HQ11:IU11) -> 117.9 | NV11: =SUM(IV11:JY11) -> 0 | NW11: =SUM(JZ11:LD11) -> 0 | NX11: =SUM(LE11:MH11) -> 0 | NY11: =SUM(MI11:NM11) -> 0 | NZ11: =SUM(DA11:NO11) -> 920
A12: A00011 | B12: Bonnie | C12: Girod | D12: I | E12: =SUM(M12:NM12) -> 1030.3 | I12: =+M12+N12+Q12+S12+X12+Y12+Z12+AA12+AD12+AE12+AF12+AG12+AI12+AM12+AO12+AP12+AQ12+AT12+AU12+AV12+AX12+AY12+BD12+BF12+BH12+BI12+BJ12+BM12+BO12+BP12+BQ12+BR12+BT12+BU12+BV12+BW12+BX12+BZ12+CB12+CC12+CD12+CE12+CF12+CG12+CH12+CI12+CJ12+CK12+CL12+CM12+CN12+CO12+CP12+CQ12+CV12+CW12+CY12+DA12+DD12+DE12+DF12+DG12+DH12+DN12+DP12+DQ12+DT12+DV12+DY12+DZ12+ED12+EE12+EF12+EG12+EI12+EJ12+EK12+EM12+EN12+EP12+ER12+ES12+EU12+EV12+EW12+EX12+EY12+FA12+FB12+FC12+FD12+FE12+FF12+FG12+FH12+FI12+FJ12+FK12+FL12+FN12+FO12+FP12+FQ12+FS12+FT12+FV12+FW12+FX12+FY12+GA12+GB12+GD12+GE12+GF12+GG12+GI12+GJ12+GK12+GL12+GO12+GQ12+GR12+GS12+GT12+GU12+GV12+GW12+GZ12+HA12+HB12+HC12+HD12+HE12+HG12+HH12+HI12+HJ12+HK12+HL12+HM12+HO12+HP12+HR12+HS12+HT12+HU12+HV12+HX12+HY12+HZ12+IB12+IC12+IE12+IF12+IG12+IH12+II12+IJ12+IK12+IL12+IM12+IN12+IP12+IR12+IS12+IT12+IU12 -> 515.8 | J12: =+O12+P12+R12+T12+U12+W12+AB12+AC12+AH12+AJ12+AN12+AS12+AW12+AZ12+BA12+BB12+BC12+BE12+BN12+BY12+CR12+CS12+CT12+CU12+CX12+CZ12+DC12+DL12+DM12+DO12+DR12+EB12+EC12+EQ12+EZ12+FR12+FZ12+GC12+GH12+GN12+GP12+GX12+GY12+HF12+HN12+HQ12+IA12+IO12+IQ12 -> 335 | K12: =+BG12+BS12+DB12+DS12+DW12+EA12+EH12+EL12+EO12+ET12+GM12 -> 179.5 | L12: =+E12-I12-J12-K12 -> 0 | M12: 4.9 | N12: 4.7 | O12: 6.2 | P12: 6.5 | Q12: 1.8 | R12: 7.7 | S12: 2.6 | T12: 8.8 | U12: 8 | W12: 7.2 | X12: 3.2 | Y12: 2.2 | Z12: 3.8 | AA12: 1.9 | AB12: 8.1 | AC12: 6.8 | AD12: 4 | AE12: 3.1 | AF12: 2.3 | AG12: 3.2 | AH12: 5.4 | AI12: 1.2 | AJ12: 5.5 | AM12: 1.7 | AN12: 7.2 | AO12: 3.7 | AP12: 0.7 | AQ12: 2.2 | AS12: 5.1 | AT12: 2.6 | AU12: 3 | AV12: 3.5 | AW12: 7.2 | AX12: 0.5 | AY12: 3.7 | AZ12: 7 | BA12: 6.4 | BB12: 5.2 | BC12: 5.4 | BD12: 3.3 | BE12: 9.2 | BF12: 2.7 | BG12: 10.6 | BH12: 4.1 | BI12: 2.5 | BJ12: 1.4 | BM12: 3.4 | BN12: 5.8 | BO12: 3.2 | BP12: 2.9 | BQ12: 3.6 | BR12: 3.5 | BS12: 14.5 | BT12: 3.8 | BU12: 3.7 | BV12: 3.8 | BW12: 3 | BX12: 4.1 | BY12: 8.9 | BZ12: 1.7 | CB12: 2.2 | CC12: 1.2 | CD12: 2.6 | CE12: 2.6 | CF12: 3.3 | CG12: 1.2 | CH12: 1.6 | CI12: 2.8 | CJ12: 2.7 | CK12: 3.5 | CL12: 2.8 | CM12: 2.2 | CN12: 3.2 | CO12: 1.3 | CP12: 3.2 | CQ12: 2 | CR12: 6.2 | CS12: 5.6 | CT12: 6.6 | CU12: 7.2 | CV12: 2.3 | CW12: 2.9 | CX12: 6.1 | CY12: 2.7 | CZ12: 9.7 | DA12: 2.1 | DB12: 11.5 | DC12: 5.7 | DD12: 1.8 | DE12: 4.6 | DF12: 2.7 | DG12: 3.5 | DH12: 3 | DI12: 0 | DJ12: 0 | DK12: 0 | DL12: 7.8 | DM12: 6.3 | DN12: 3.1 | DO12: 9.5 | DP12: 3.9 | DQ12: 4.1 | DR12: 5.8 | DS12: 12.1 | DT12: 1.4 | DU12: 0 | DV12: 4.8 | DW12: 14.5 | DX12: 0 | DY12: 3.6 | DZ12: 3 | EA12: 13.3 | EB12: 5.4 | EC12: 5.7 | ED12: 4.4 | EE12: 2.9 | EF12: 3.6 | EG12: 1.7 | EH12: 23.8 | EI12: 3.3 | EJ12: 4.1 | EK12: 3.2 | EL12: 10.5 | EM12: 3.4 | EN12: 3 | EO12: 15.1 | EP12: 4.6 | EQ12: 6.6 | ER12: 3.3 | ES12: 3.5 | ET12: 28.3 | EU12: 3.8 | EV12: 3.8 | EW12: 3.9 | EX12: 2.8 | EY12: 4.6 | EZ12: 7.2 | FA12: 3.4 | FB12: 1.9 | FC12: 4.1 | FD12: 4.1 | FE12: 3.7 | FF12: 3.4 | FG12: 2 | FH12: 4.8 | FI12: 4.3 | FJ12: 2.8 | FK12: 2.1 | FL12: 3.7 | FM12: 0 | FN12: 3.1 | FO12: 2.9 | FP12: 3.3 | FQ12: 4.7 | FR12: 5.8 | FS12: 4.3 | FT12: 4.1 | FU12: 0 | FV12: 3 | FW12: 4.9 | FX12: 3.7 | FY12: 3.1 | FZ12: 5.1 | GA12: 4.4 | GB12: 1.5 | GC12: 6.2 | GD12: 4.4 | GE12: 2.8 | GF12: 4.5 | GG12: 4.3 | GH12: 9.7 | GI12: 1.6 | GJ12: 2.1 | GK12: 1.4 | GL12: 4.9 | GM12: 25.3 | GN12: 5.7 | GO12: 5 | GP12: 5.4 | GQ12: 2.7 | GR12: 1.8 | GS12: 3.3 | GT12: 3 | GU12: 2.5 | GV12: 2.7 | GW12: 2.3 | GX12: 5.6 | GY12: 5.8 | GZ12: 2.5 | HA12: 1.5 | HB12: 4.6 | HC12: 2.4 | HD12: 2.2 | HE12: 4.2 | HF12: 9.5 | HG12: 4.4 | HH12: 3.2 | HI12: 2.9 | HJ12: 3.6 | HK12: 2.7 | HL12: 4.3 | HM12: 4.7 | HN12: 7.2 | HO12: 0.6 | HP12: 3.9 | HQ12: 10 | HR12: 4.1 | HS12: 4.1 | HT12: 4.4 | HU12: 3.2 | HV12: 4.5 | HX12: 2.6 | HY12: 2.9 | HZ12: 3.1 | IA12: 6.3 | IB12: 3.6 | IC12: 4 | IE12: 1.9 | IF12: 1.2 | IG12: 1.5 | IH12: 3.2 | II12: 3.2 | IJ12: 3.8 | IK12: 3.5 | IL12: 3.8 | IM12: 3.5 | IN12: 3.7 | IO12: 5.1 | IP12: 3.4 | IQ12: 8.6 | IR12: 1.4 | IS12: 2 | IT12: 1.6 | IU12: 2.3 | NN12: =SUM(M12:AQ12) -> 124.6 | NO12: =SUM(AR12:BS12) -> 120.3 | NP12: =SUM(BT12:CX12) -> 104.3 | NQ12: =SUM(CY12:EB12) -> 145.9 | NR12: =SUM(EC12:FG12) -> 179.7 | NS12: =SUM(FH12:GK12) -> 108.6 | NT12: =SUM(GL12:HP12) -> 140.4 | NU12: =SUM(HQ12:IU12) -> 106.5 | NV12: =SUM(IV12:JY12) -> 0 | NW12: =SUM(JZ12:LD12) -> 0 | NX12: =SUM(LE12:MH12) -> 0 | NY12: =SUM(MI12:NM12) -> 0 | NZ12: =SUM(DA12:NO12) -> 913.6
A13: A00310 | B13: Brianna | C13: Girod | D13: Youth | H13: =SUM(M13:NM13) -> 350.1 | I13: =+O13+Q13+U13+V13+AC13+AH13+AM13+AQ13+CN13+EB13+EC13+ED13+EE13+EF13+EG13+EI13+EK13+EM13+EN13+EP13+EQ13+ER13+ES13+EU13+EV13+EW13+EX13+EY13 -> 77.8 | J13: =+N13+S13+T13+AF13+AG13+AZ13+BG13+BY13+CY13+CZ13+DB13+DS13+EJ13 -> 94 | K13: =+M13+AA13+AB13+BM13+BS13+EA13+EH13+EL13+EO13+ET13 -> 178.3 | L13: =+H13-I13-J13-K13 -> 0 | M13: 10.7 | N13: 8 | O13: 2 | Q13: 5 | S13: 5.1 | T13: 8 | U13: 3 | V13: 0.5 | AA13: 12 | AB13: 15.8 | AC13: 4.7 | AF13: 6.3 | AG13: 7 | AH13: 3.1 | AM13: 1 | AQ13: 2 | AZ13: 5.1 | BG13: 8 | BM13: 17.8 | BS13: 26 | BY13: 7.1 | CN13: 1.5 | CY13: 6.8 | CZ13: 8.2 | DB13: 8.1 | DS13: 7.9 | EA13: 11.1 | EB13: 2.9 | EC13: 3.5 | ED13: 3.1 | EE13: 4.1 | EF13: 3.2 | EG13: 1.7 | EH13: 22.3 | EI13: 2 | EJ13: 8.4 | EK13: 5 | EL13: 16 | EM13: 3 | EN13: 2.3 | EO13: 14 | EP13: 4.9 | EQ13: 3.1 | ER13: 4.7 | ES13: 3.1 | ET13: 32.6 | EU13: 0.5 | EV13: 1.5 | EW13: 2.6 | EX13: 2.4 | EY13: 1.4 | NN13: =SUM(M13:AQ13) -> 94.2 | NO13: =SUM(AR13:BS13) -> 56.9 | NP13: =SUM(BT13:CX13) -> 8.6 | NQ13: =SUM(CY13:EB13) -> 45 | NR13: =SUM(EC13:FG13) -> 145.4 | NS13: =SUM(FH13:GK13) -> 0 | NT13: =SUM(GL13:HP13) -> 0 | NU13: =SUM(HQ13:IU13) -> 0 | NV13: =SUM(IV13:JY13) -> 0 | NW13: =SUM(JZ13:LD13) -> 0 | NX13: =SUM(LE13:MH13) -> 0 | NY13: =SUM(MI13:NM13) -> 0 | NZ13: =SUM(DA13:NO13) -> 326.5
A14: A00372 | B14: Trivette | C14: Girod | D14: Youth | H14: =SUM(M14:NM14) -> 225.8 | I14: =+M14+O14+P14+Q14+R14+U14+W14+Z14+AC14+AF14+AH14+AJ14+AM14+AN14+AQ14+AS14+AU14+AW14+BC14+BL14+BM14+BQ14+BY14+CD14+CK14+CL14+CP14+CQ14+CY14 -> 92.4 | J14: =+S14+Y14+AA14+AG14+AK14+AP14+AZ14+BI14+BO14+BP14+DA14 -> 71.5 | K14: =+N14+T14+V14+X14+AB14 -> 61.9 | L14: =+H14-I14-J14-K14 -> 7.1054274e-14 | M14: 3 | N14: 12.2 | O14: 5 | P14: 4.4 | Q14: 2 | R14: 3.3 | S14: 8.5 | T14: 11.9 | U14: 4.2 | V14: 10.2 | W14: 2.5 | X14: 11.9 | Y14: 7.8 | Z14: 2.2 | AA14: 5.7 | AB14: 15.7 | AC14: 3.5 | AF14: 2.5 | AG14: 6.8 | AH14: 2.5 | AJ14: 1.2 | AK14: 5.5 | AM14: 2.3 | AN14: 4.3 | AP14: 5.6 | AQ14: 4 | AS14: 3.9 | AU14: 2.9 | AW14: 3.5 | AZ14: 6.2 | BC14: 2 | BI14: 6.6 | BL14: 2 | BM14: 5 | BO14: 6 | BP14: 7.5 | BQ14: 3.4 | BY14: 3.5 | CD14: 3.5 | CK14: 3.8 | CL14: 4.6 | CP14: 1.6 | CQ14: 2 | CY14: 3.8 | DA14: 5.3 | NN14: =SUM(M14:AQ14) -> 148.7 | NO14: =SUM(AR14:BS14) -> 49 | NP14: =SUM(BT14:CX14) -> 19 | NQ14: =SUM(CY14:EB14) -> 9.1 | NR14: =SUM(EC14:FG14) -> 0 | NS14: =SUM(FH14:GK14) -> 0 | NT14: =SUM(GL14:HP14) -> 0 | NU14: =SUM(HQ14:IU14) -> 0 | NV14: =SUM(IV14:JY14) -> 0 | NW14: =SUM(JZ14:LD14) -> 0 | NX14: =SUM(LE14:MH14) -> 0 | NY14: =SUM(MI14:NM14) -> 0 | NZ14: =SUM(DA14:NO14) -> 203
A15: A00220 | B15: AJ | C15: Haddenham | D15: III | G15: =SUM(M15:NM15) -> 1297.5 | I15: =+M15+N15+O15+P15+R15+S15+T15+U15+V15+Y15+Z15+AA15+AB15+AC15+AD15+AE15+AF15+AG15+AH15+AI15+AK15+AL15+AM15+AN15+AO15+AP15+AQ15+AR15+AV15+AW15+AX15+AY15+AZ15+BB15+BC15+BD15+BF15+BG15+BH15+BI15+BJ15+BK15+BL15+BM15+BO15+BP15+BR15+BV15+BW15+BX15+BY15+CA15+CC15+CD15+CF15+CH15+CI15+CQ15+CB15+DC15+DI15+DK15+DL15+DN15+DT15+DU15+DV15+EA15+EB15+EQ15+ER15+ET15+EX15+FB15+FD15+FE15+FF15+FH15+FI15+FJ15+FK15+FL15+FM15+FN15+FP15+FQ15+FT15+FV15+FZ15+GF15+GG15+GQ15+GR15+GS15+GT15+GU15+GX15+GY15+GZ15+HA15+HB15+HG15+HH15+HI15+HM15+HN15+HP15+HQ15+HR15+HS15+HW15+HY15+HZ15+IA15+IB15+IC15+ID15+IE15+IF15+IG15+IH15+II15+IJ15+IK15+IL15+IM15+IN15+IO15+IP15+IQ15+IR15+IT15 -> 541.5 | J15: =+Q15+W15+X15+AJ15+AS15+AT15+AU15+BA15+BE15+BN15+BQ15+BS15+BT15+BU15+BZ15+CE15+CG15+CJ15+CK15+CL15+CM15+CN15+CO15+CP15+CR15+CS15+CT15+CU15+CV15+CW15+CX15+CY15+CZ15+DA15+DB15+DD15+DE15+DF15+DG15+DJ15+DM15+DO15+DP15+DR15+DS15+DW15+DX15+DY15+DZ15+EC15+ED15+EE15+EG15+EH15+EI15+EJ15+EK15+EL15+EM15+EN15+EO15+EP15+EU15+EV15+EW15+EY15+EZ15+FC15+FO15+FR15+FS15+FU15+FW15+FX15+FY15+GA15+GB15+GC15+GD15+GE15+GH15+GI15+GJ15+GK15+GL15+GM15+GN15+GO15+GP15+GV15+GW15+HC15+HD15+HE15+HF15+HJ15+HK15+HL15+HO15+HT15+HU15+HV15+HX15+IS15+IU15 -> 683 | K15: =+DH15+DQ15+EF15+ES15+FA15+FG15 -> 73 | L15: =+G15-I15-J15-K15 -> -1.1368684e-13 | M15: 4 | N15: 4.3 | O15: 3.9 | P15: 4.5 | Q15: 5.3 | R15: 3.9 | S15: 3.8 | T15: 4 | U15: 4.3 | V15: 4.2 | W15: 5.6 | X15: 6.5 | Y15: 4.2 | Z15: 4.2 | AA15: 4.5 | AB15: 4.3 | AC15: 4.9 | AD15: 4.5 | AE15: 4.5 | AF15: 4.4 | AG15: 4.4 | AH15: 4.8 | AI15: 4.3 | AJ15: 6.9 | AK15: 3.6 | AL15: 4.1 | AM15: 4.7 | AN15: 4.3 | AO15: 3.9 | AP15: 3.9 | AQ15: 3.3 | AR15: 4.3 | AS15: 5.1 | AT15: 6.1 | AU15: 5.7 | AV15: 5 | AW15: 4.8 | AX15: 4.7 | AY15: 3.4 | AZ15: 3.9 | BA15: 5.9 | BB15: 4.3 | BC15: 4 | BD15: 4.1 | BE15: 5.3 | BF15: 4.8 | BG15: 4.8 | BH15: 4.6 | BI15: 4.2 | BJ15: 4 | BK15: 4.3 | BL15: 3.5 | BM15: 3.6 | BN15: 6 | BO15: 4.2 | BP15: 3.7 | BQ15: 5.7 | BR15: 3.7 | BS15: 5.5 | BT15: 6.8 | BU15: 9.7 | BV15: 5 | BW15: 4.5 | BX15: 4.3 | BY15: 3.9 | BZ15: 9.7 | CA15: 4.6 | CB15: 4.9 | CC15: 4.6 | CD15: 4.1 | CE15: 8.4 | CF15: 4.4 | CG15: 8.6 | CH15: 4.2 | CI15: 4.5 | CJ15: 7.4 | CK15: 8 | CL15: 5.4 | CM15: 8 | CN15: 9.3 | CO15: 5.4 | CP15: 7.7 | CQ15: 4.7 | CR15: 7.7 | CS15: 6.5 | CT15: 8.2 | CU15: 6.5 | CV15: 9.9 | CW15: 6.3 | CX15: 5.9 | CY15: 8.2 | CZ15: 6.6 | DA15: 6.5 | DB15: 8.3 | DC15: 4.8 | DD15: 5.9 | DE15: 7.9 | DF15: 6.9 | DG15: 5.5 | DH15: 11.8 | DI15: 4.9 | DJ15: 8 | DK15: 4.2 | DL15: 3.9 | DM15: 6.8 | DN15: 4.9 | DO15: 7.6 | DP15: 6 | DQ15: 10.8 | DR15: 5.8 | DS15: 6.2 | DT15: 4.5 | DU15: 4.4 | DV15: 4.5 | DW15: 5.8 | DX15: 5.9 | DY15: 8.9 | DZ15: 6.4 | EA15: 3.4 | EB15: 3.7 | EC15: 5.1 | ED15: 5.1 | EE15: 5.1 | EF15: 12 | EG15: 6.1 | EH15: 6.1 | EI15: 5.2 | EJ15: 7.3 | EK15: 6.9 | EL15: 6.3 | EM15: 7.9 | EN15: 7.7 | EO15: 5.5 | EP15: 5.7 | EQ15: 4.3 | ER15: 3.9 | ES15: 13.9 | ET15: 5 | EU15: 5.9 | EV15: 7.1 | EW15: 8.3 | EX15: 3.8 | EY15: 6.3 | EZ15: 6 | FA15: 12.7 | FB15: 3.7 | FC15: 6.1 | FD15: 5 | FE15: 4.3 | FF15: 5 | FG15: 11.8 | FH15: 3.8 | FI15: 4.5 | FJ15: 4.7 | FK15: 4.3 | FL15: 4.5 | FM15: 4.8 | FN15: 4.6 | FO15: 7 | FP15: 4.2 | FQ15: 4.9 | FR15: 5.7 | FS15: 6.2 | FT15: 4.2 | FU15: 6.3 | FV15: 4.9 | FW15: 6 | FX15: 5.2 | FY15: 6.1 | FZ15: 4.9 | GA15: 6 | GB15: 8.8 | GC15: 6 | GD15: 5.2 | GE15: 5.4 | GF15: 4.9 | GG15: 3.9 | GH15: 5.1 | GI15: 7 | GJ15: 6.6 | GK15: 5.9 | GL15: 5.5 | GM15: 5.5 | GN15: 6.2 | GO15: 5.5 | GP15: 7.2 | GQ15: 4.4 | GR15: 4.1 | GS15: 4.4 | GT15: 4.1 | GU15: 4.5 | GV15: 5.8 | GW15: 7.3 | GX15: 4.2 | GY15: 4.9 | GZ15: 4.6 | HA15: 4.8 | HB15: 4.3 | HC15: 7.2 | HD15: 7.4 | HE15: 6.7 | HF15: 5.8 | HG15: 4.6 | HH15: 5 | HI15: 4.5 | HJ15: 6.2 | HK15: 5.9 | HL15: 6.1 | HM15: 4.8 | HN15: 4.9 | HO15: 5.3 | HP15: 4.3 | HQ15: 4 | HR15: 5 | HS15: 2.6 | HT15: 5.1 | HU15: 5.4 | HV15: 5.8 | HW15: 4.8 | HX15: 6 | HY15: 2.9 | HZ15: 2.7 | IA15: 3.6 | IB15: 2.5 | IC15: 4.4 | ID15: 2.4 | IE15: 3.9 | IF15: 2.3 | IG15: 3.8 | IH15: 1.9 | II15: 3.3 | IJ15: 3.1 | IK15: 1.8 | IL15: 3.7 | IM15: 2 | IN15: 2.6 | IO15: 2.5 | IP15: 2.8 | IQ15: 3.5 | IR15: 2.4 | IS15: 5.4 | IT15: 2 | IU15: 5.3 | NN15: =SUM(M15:AQ15) -> 138 | NO15: =SUM(AR15:BS15) -> 129.2 | NP15: =SUM(BT15:CX15) -> 199.1 | NQ15: =SUM(CY15:EB15) -> 189 | NR15: =SUM(EC15:FG15) -> 205.1 | NS15: =SUM(FH15:GK15) -> 161.6 | NT15: =SUM(GL15:HP15) -> 166 | NU15: =SUM(HQ15:IU15) -> 109.5 | NV15: =SUM(IV15:JY15) -> 0 | NW15: =SUM(JZ15:LD15) -> 0 | NX15: =SUM(LE15:MH15) -> 0 | NY15: =SUM(MI15:NM15) -> 0 | NZ15: =SUM(DA15:NO15) -> 1083.6
A16: A00223 | B16: Holly | C16: Haddenham | D16: III | G16: =SUM(M16:NM16) -> 805.8 | I16: =SUM(M16:CX16)-CV16-CT16-CE16-CG16-CK16-CM16-CN16-BU16-BZ16+CZ16+DA16+DB16+DC16+DD16+DF16+DG16+DI16+DJ16+DK16+DL16+DN16+DP16+DR16+DS16+DT16+DU16+DV16+DW16+DX16+DZ16+EA16+EB16+EC16+ED16+EG16+EH16+EI16+EJ16+EK16+EL16+EM16+EO16+EP16+EQ16+ER16+ET16+EU16+EV16+EW16+EX16+EY16+EZ16+FB16+FC16+FD16+FE16+FF16+FH16+FI16+FJ16+FK16+FL16+FM16+FN16+FO16+FP16+FQ16+FR16+FT16+FV16+FW16+FX16+FY16+FZ16+GA16+GD16+GE16+GF16+GG16+GH16+GJ16+GK16+GL16+GM16+GN16+GP16+GR16+GS16+GT16+GU16+GV16+GW16+GY16+GZ16+HA16+HB16+HF16+HG16+HH16+HJ16+HM16+HN16+HO16+HP16+HS16+HT16+HU16+HV16+HW16+HX16+HY16+HZ16+IA16+IB16+IC16+ID16+IE16+IF16+IG16+IH16+II16+IJ16+IK16+IL16+IM16+IN16+IO16+IP16+IQ16+IR16+IS16+IT16+IU16 -> 542.6 | J16: =+BU16+BZ16+CE16+CG16+CK16+CM16+CN16+CT16+CV16+CY16+DE16+DH16+DM16+DO16+DQ16+DY16+EN16+FG16+EE16+FS16+FU16+GB16+GC16+GI16+GO16+GQ16+GX16+HC16+HD16+HE16+HI16+HK16+HL16+HQ16+HR16 -> 227.4 | K16: =+EF16+ES16+FA16 -> 35.8 | L16: =+G16-I16-J16-K16 -> 2.4158453e-13 | M16: 1.9 | N16: 1.4 | O16: 1 | P16: 1.5 | Q16: 2.2 | R16: 1.5 | S16: 2.2 | T16: 1.5 | U16: 2.1 | V16: 1 | W16: 4.6 | X16: 2.1 | Y16: 2.4 | Z16: 1.7 | AA16: 2.4 | AB16: 2.4 | AC16: 2.4 | AD16: 2.6 | AE16: 3.4 | AF16: 1.4 | AG16: 2.1 | AH16: 2.7 | AI16: 1.9 | AJ16: 4.2 | AK16: 1.7 | AL16: 1.6 | AM16: 1 | AN16: 2.9 | AO16: 2.2 | AP16: 1.5 | AQ16: 1.5 | AR16: 2 | AS16: 2 | AT16: 3.4 | AU16: 1.8 | AV16: 2.5 | AW16: 2.4 | AX16: 1.6 | AY16: 1.3 | AZ16: 1.8 | BA16: 4.3 | BB16: 2.9 | BC16: 1.5 | BD16: 1.8 | BE16: 2.5 | BF16: 1.7 | BG16: 2.2 | BH16: 1.8 | BI16: 1.8 | BJ16: 1.9 | BK16: 1.8 | BL16: 1.6 | BM16: 2 | BN16: 1.4 | BO16: 2.7 | BP16: 1.8 | BQ16: 2 | BR16: 4.1 | BS16: 4.5 | BT16: 4.7 | BU16: 6.3 | BV16: 3.9 | BW16: 2 | BX16: 1.9 | BY16: 1.9 | BZ16: 6.4 | CA16: 2.8 | CB16: 2.5 | CC16: 1.9 | CD16: 2 | CE16: 5.8 | CF16: 3.1 | CG16: 6 | CH16: 1.1 | CI16: 2.1 | CJ16: 4.7 | CK16: 5.5 | CL16: 2.2 | CM16: 6.5 | CN16: 5.9 | CO16: 2.5 | CP16: 4.7 | CQ16: 3.2 | CR16: 3.1 | CS16: 2.3 | CT16: 5.9 | CU16: 4.6 | CV16: 8.7 | CW16: 3.2 | CX16: 4 | CY16: 5.4 | CZ16: 3.1 | DA16: 2 | DB16: 3.3 | DC16: 1.7 | DD16: 1.5 | DE16: 6.9 | DF16: 3 | DG16: 2.8 | DH16: 10 | DI16: 2.8 | DJ16: 4.2 | DK16: 1.3 | DL16: 1 | DM16: 5.3 | DN16: 2.6 | DO16: 6.5 | DP16: 3.8 | DQ16: 9 | DR16: 1.9 | DS16: 2.7 | DT16: 1.9 | DU16: 2 | DV16: 5 | DW16: 4.7 | DX16: 3.9 | DY16: 7 | DZ16: 4.5 | EA16: 1.8 | EB16: 1.7 | EC16: 1.8 | ED16: 2 | EE16: 5.5 | EF16: 10.5 | EG16: 4.8 | EH16: 4.7 | EI16: 4.4 | EJ16: 4.7 | EK16: 4.5 | EL16: 2.8 | EM16: 3 | EN16: 6 | EO16: 2.5 | EP16: 1.6 | EQ16: 1.9 | ER16: 3 | ES16: 13.9 | ET16: 2 | EU16: 2.3 | EV16: 3.4 | EW16: 5 | EX16: 1.9 | EY16: 4.5 | EZ16: 2.9 | FA16: 11.4 | FB16: 1.7 | FC16: 2.8 | FD16: 2.7 | FE16: 2.7 | FF16: 3.7 | FG16: 9.8 | FH16: 1.4 | FI16: 1.7 | FJ16: 3.9 | FK16: 2.5 | FL16: 1.9 | FM16: 2.5 | FN16: 2.5 | FO16: 4 | FP16: 1.7 | FQ16: 2 | FR16: 2.7 | FS16: 6.2 | FT16: 2.4 | FU16: 6 | FV16: 2.5 | FW16: 4 | FX16: 2.7 | FY16: 4.3 | FZ16: 2.6 | GA16: 3.8 | GB16: 5.5 | GC16: 5.2 | GD16: 1.7 | GE16: 1.4 | GF16: 2.5 | GG16: 1.6 | GH16: 2.1 | GI16: 5.7 | GJ16: 3.6 | GK16: 2.5 | GL16: 2 | GM16: 2.3 | GN16: 4.4 | GO16: 5.7 | GP16: 5 | GQ16: 5.9 | GR16: 2.8 | GS16: 3.4 | GT16: 2.6 | GU16: 4.3 | GV16: 3.2 | GW16: 5 | GX16: 5.2 | GY16: 4.3 | GZ16: 2 | HA16: 3.6 | HB16: 1.8 | HC16: 6.1 | HD16: 8.5 | HE16: 5.2 | HF16: 3.2 | HG16: 3.2 | HH16: 4.5 | HI16: 7 | HJ16: 2 | HK16: 5.5 | HL16: 6.4 | HM16: 3.3 | HN16: 2.8 | HO16: 2.5 | HP16: 2 | HQ16: 7 | HR16: 7.9 | HS16: 4.3 | HT16: 4.3 | HU16: 4.8 | HV16: 4.9 | HW16: 2.2 | HX16: 4.1 | HY16: 1.6 | HZ16: 1.6 | IA16: 2.6 | IB16: 1 | IC16: 3.2 | ID16: 1.7 | IE16: 2.5 | IF16: 3.7 | IG16: 2.1 | IH16: 2 | II16: 1.8 | IJ16: 1.9 | IK16: 2.3 | IL16: 2.9 | IM16: 1.9 | IN16: 1.2 | IO16: 2.1 | IP16: 2 | IQ16: 3.3 | IR16: 2.2 | IS16: 2.6 | IT16: 1.3 | IU16: 2.8 | NN16: =SUM(M16:AQ16) -> 65 | NO16: =SUM(AR16:BS16) -> 63.1 | NP16: =SUM(BT16:CX16) -> 121.4 | NQ16: =SUM(CY16:EB16) -> 113.3 | NR16: =SUM(EC16:FG16) -> 134.4 | NS16: =SUM(FH16:GK16) -> 93.1 | NT16: =SUM(GL16:HP16) -> 125.7 | NU16: =SUM(HQ16:IU16) -> 89.8 | NV16: =SUM(IV16:JY16) -> 0 | NW16: =SUM(JZ16:LD16) -> 0 | NX16: =SUM(LE16:MH16) -> 0 | NY16: =SUM(MI16:NM16) -> 0 | NZ16: =SUM(DA16:NO16) -> 675.9
A17: A00106 | B17: Kendal | C17: Ingraham | D17: II | F17: =SUM(M17:NM17) -> 526.7 | I17: =SUM(M17:CX17)-AJ17-AW17-BE17-BR17-BS17-BZ17-CH17+SUM(CY17:FF17)-DC17-DO17-DV17-DX17-EE17-EK17-EX17+SUM(FH17:GK17)-GI17-GB17-FS17+GL17+GM17+GO17+GQ17+GR17+GS17+GU17+GV17+GW17+GX17+GY17+GZ17+HA17+HB17+HC17+HD17+HE17+HF17+HG17+HH17+HI17+HJ17+HL17+HM17+HN17+HO17+HP17+SUM(HQ17:IR17)+IU17 -> 350.6 | J17: =+AJ17+AW17+BE17+BR17+BZ17+CH17+DC17+DO17+DV17+DX17+EE17+FS17+GN17+IT17 -> 100.4 | K17: =+BS17+EK17+EX17+FG17+GB17+GI17+GP17 -> 75.7 | L17: =+F17-I17-J17-K17 -> 0 | M17: 1.2 | N17: 2.1 | O17: 2 | P17: 2.8 | Q17: 1.8 | R17: 1.9 | S17: 1.8 | T17: 2 | U17: 2 | V17: 2.9 | W17: 2.7 | X17: 1.8 | Y17: 1.8 | Z17: 1.3 | AA17: 1.8 | AB17: 3.9 | AC17: 1 | AD17: 4.3 | AE17: 1.5 | AF17: 1.8 | AG17: 1.5 | AH17: 1.8 | AI17: 1.3 | AJ17: 8.4 | AK17: 1 | AL17: 1.9 | AM17: 1.8 | AN17: 1.8 | AO17: 1.8 | AP17: 1.9 | AQ17: 1.7 | AR17: 1 | AS17: 1.5 | AT17: 2.5 | AU17: 1.5 | AV17: 1.8 | AW17: 7.5 | AX17: 1.3 | AY17: 1 | AZ17: 1.8 | BA17: 1.8 | BB17: 1.5 | BC17: 2.2 | BD17: 1.8 | BE17: 8.3 | BF17: 4.4 | BG17: 2 | BH17: 2.4 | BI17: 1.9 | BJ17: 2.1 | BK17: 1 | BL17: 3 | BM17: 1 | BN17: 1.9 | BO17: 2 | BP17: 1.9 | BQ17: 1.9 | BR17: 5.8 | BS17: 10.4 | BT17: 1 | BU17: 1.9 | BV17: 1.8 | BW17: 1.8 | BX17: 1.3 | BY17: 4.3 | BZ17: 9.2 | CA17: 1 | CB17: 1.8 | CC17: 1.9 | CD17: 1.3 | CE17: 1.9 | CF17: 1 | CG17: 1.4 | CH17: 8.2 | CI17: 1.9 | CJ17: 1.8 | CK17: 1.9 | CL17: 1.9 | CM17: 3 | CN17: 1.4 | CO17: 1.6 | CP17: 1.8 | CQ17: 1.8 | CR17: 1.8 | CS17: 2.8 | CT17: 0.7 | CV17: 1 | CW17: 0.9 | CX17: 2.2 | CY17: 1.8 | CZ17: 2 | DA17: 0.5 | DB17: 2.4 | DC17: 7 | DD17: 1.8 | DE17: 1.8 | DF17: 1.7 | DG17: 3.1 | DH17: 2.1 | DK17: 1.3 | DL17: 1.9 | DM17: 0.9 | DN17: 1.9 | DO17: 5.6 | DP17: 1.4 | DQ17: 3.9 | DR17: 2.2 | DS17: 1.1 | DT17: 1 | DV17: 6.2 | DW17: 2.9 | DX17: 5.9 | DY17: 2 | DZ17: 1.4 | EA17: 1 | EB17: 2 | EC17: 2.5 | ED17: 1.5 | EE17: 7.6 | EF17: 1.9 | EG17: 1.6 | EH17: 1.3 | EI17: 2.3 | EJ17: 1.3 | EK17: 10.2 | EL17: 2.5 | EM17: 1 | EN17: 1.3 | EO17: 2 | EP17: 1.4 | EQ17: 1 | ER17: 3.1 | ES17: 1.3 | ET17: 3.3 | EU17: 2.1 | EV17: 1.9 | EW17: 1.9 | EX17: 11.3 | EY17: 2 | EZ17: 2 | FB17: 1.9 | FC17: 1.8 | FD17: 1 | FE17: 1.2 | FF17: 2.7 | FG17: 11 | FH17: 1.4 | FI17: 0.9 | FJ17: 1 | FK17: 1 | FL17: 1.2 | FM17: 3.1 | FN17: 2.4 | FO17: 0.9 | FP17: 2 | FR17: 1.9 | FS17: 7 | FT17: 2.2 | FU17: 1.7 | FV17: 1.1 | FW17: 1 | FX17: 1.3 | FY17: 1 | FZ17: 1.1 | GA17: 1 | GB17: 10.7 | GC17: 1.3 | GD17: 1 | GE17: 1.3 | GF17: 1.3 | GG17: 1.6 | GH17: 1.5 | GI17: 10.5 | GJ17: 1.7 | GK17: 1.3 | GL17: 1.7 | GM17: 1.5 | GN17: 8.3 | GO17: 1.7 | GP17: 11.6 | GQ17: 1 | GR17: 1.9 | GS17: 1.4 | GU17: 1.8 | GV17: 2.3 | GW17: 3.1 | GX17: 1.1 | GY17: 1 | GZ17: 1.2 | HA17: 1 | HB17: 1.3 | HC17: 1.2 | HD17: 2.4 | HE17: 1 | HF17: 2.4 | HG17: 1.6 | HH17: 1 | HI17: 1 | HJ17: 1 | HL17: 1.2 | HM17: 1 | HN17: 1.6 | HO17: 1.2 | HP17: 1 | HQ17: 1.4 | HR17: 1 | HS17: 1.4 | HT17: 1 | HU17: 1 | HV17: 1.3 | HW17: 1 | HX17: 1.1 | HZ17: 0.7 | IA17: 1.3 | IC17: 2.5 | ID17: 1.4 | IE17: 1.5 | IF17: 1.2 | IG17: 2 | IH17: 1.4 | IL17: 1.2 | IM17: 1 | IN17: 2.5 | IO17: 1 | IP17: 1 | IQ17: 1.3 | IR17: 0.7 | IT17: 5.4 | IU17: 1 | NN17: =SUM(M17:AQ17) -> 67.3 | NO17: =SUM(AR17:BS17) -> 77.2 | NP17: =SUM(BT17:CX17) -> 66.3 | NQ17: =SUM(CY17:EB17) -> 66.8 | NR17: =SUM(EC17:FG17) -> 87.9 | NS17: =SUM(FH17:GK17) -> 65.4 | NT17: =SUM(GL17:HP17) -> 59.5 | NU17: =SUM(HQ17:IU17) -> 36.3 | NV17: =SUM(IV17:JY17) -> 0 | NW17: =SUM(JZ17:LD17) -> 0 | NX17: =SUM(LE17:MH17) -> 0 | NY17: =SUM(MI17:NM17) -> 0 | NZ17: =SUM(DA17:NO17) -> 456.6
A18: A00256 | B18: Victoria | C18: Marsh | D18: I | E18: =SUM(M18:NM18) -> 139.1 | I18: =+EM18+EP18+EW18+FP18+GG18+GI18+GJ18+GL18+GM18+GN18+GO18+GS18+HE18+HJ18+HL18 -> 39.9 | J18: =+EI18+EJ18+EY18+FR18+GP18+HA18+HK18+HN18 -> 56.5 | K18: =+EK18+FF18 -> 42.7 | L18: =+E18-I18-J18-K18 -> 0 | EI18: 9.2 | EJ18: 7.4 | EK18: 26.7 | EM18: 2.4 | EP18: 1.6 | EW18: 3.7 | EY18: 6 | FF18: 16 | FP18: 2.2 | FR18: 5.5 | GG18: 4.2 | GI18: 3.4 | GJ18: 4.3 | GL18: 1.5 | GM18: 2 | GN18: 4.5 | GO18: 1.5 | GP18: 6.7 | GS18: 1.2 | HA18: 7.9 | HE18: 2.5 | HJ18: 2 | HK18: 6.1 | HL18: 2.9 | HN18: 7.7 | NN18: =SUM(M18:AQ18) -> 0 | NO18: =SUM(AR18:BS18) -> 0 | NP18: =SUM(BT18:CX18) -> 0 | NQ18: =SUM(CY18:EB18) -> 0 | NR18: =SUM(EC18:FG18) -> 73 | NS18: =SUM(FH18:GK18) -> 19.6 | NT18: =SUM(GL18:HP18) -> 46.5 | NU18: =SUM(HQ18:IU18) -> 0 | NV18: =SUM(IV18:JY18) -> 0 | NW18: =SUM(JZ18:LD18) -> 0 | NX18: =SUM(LE18:MH18) -> 0 | NY18: =SUM(MI18:NM18) -> 0 | NZ18: =SUM(DA18:NO18) -> 139.1
A19: A00042 | B19: Sophia | C19: McKee | D19: I | E19: =SUM(M19:NM19) -> 209.5 | I19: =+M19+O19+P19+S19+T19+W19+X19+Y19+AB19+AC19+AF19+AH19+AI19+AJ19+AK19+AM19+AP19+BC19+BD19+BH19+BI19+BJ19+BK19+BL19+BQ19+BT19+BV19+CK19+CL19+CM19+CP19+CS19 -> 107.2 | J19: =+Z19+AA19+AD19+AO19+AT19+AU19+BA19+BG19+BU19+BX19 -> 66.9 | K19: =+AQ19+BZ19+CN19 -> 35.4 | L19: =+E19-I19-J19-K19 -> 0 | M19: 4 | O19: 4.5 | P19: 5 | S19: 4 | T19: 2.3 | W19: 4 | X19: 2.3 | Y19: 4.5 | Z19: 6.8 | AA19: 5.2 | AB19: 4 | AC19: 4 | AD19: 6.9 | AF19: 2 | AH19: 2 | AI19: 4 | AJ19: 2 | AK19: 3 | AM19: 4.2 | AO19: 6.8 | AP19: 2 | AQ19: 12 | AT19: 5.2 | AU19: 9.6 | BA19: 6.5 | BC19: 4.1 | BD19: 2 | BG19: 5.4 | BH19: 4 | BI19: 3 | BJ19: 4.8 | BK19: 4.8 | BL19: 3 | BQ19: 2 | BT19: 4.8 | BU19: 7 | BV19: 1.5 | BX19: 7.5 | BZ19: 11.4 | CK19: 4 | CL19: 3 | CM19: 3 | CN19: 12 | CP19: 2.4 | CS19: 3 | NN19: =SUM(M19:AQ19) -> 95.5 | NO19: =SUM(AR19:BS19) -> 54.4 | NP19: =SUM(BT19:CX19) -> 59.6 | NQ19: =SUM(CY19:EB19) -> 0 | NR19: =SUM(EC19:FG19) -> 0 | NS19: =SUM(FH19:GK19) -> 0 | NT19: =SUM(GL19:HP19) -> 0 | NU19: =SUM(HQ19:IU19) -> 0 | NV19: =SUM(IV19:JY19) -> 0 | NW19: =SUM(JZ19:LD19) -> 0 | NX19: =SUM(LE19:MH19) -> 0 | NY19: =SUM(MI19:NM19) -> 0 | NZ19: =SUM(DA19:NO19) -> 149.9
A20: A00044 | B20: Susan | C20: McLain | D20: I | E20: =SUM(M20:NM20) -> 1638.3 | I20: =+M20+P20+Q20+R20+S20+T20+X20+AB20+AE20+AH20+AI20+AL20+AN20+AP20+AQ20+AV20+AW20+AY20+BC20+BF20+BH20+BI20+BK20+BO20+BP20+BQ20+BR20+BS20+BW20+CE20+CF20+CL20+CN20+CQ20+CR20+CS20+CT20+CU20+CV20+CW20+CZ20+DA20+DD20+DI20+DJ20+DM20+DN20+DO20+DQ20+DS20+DT20+DU20+DV20+DW20+DZ20+EC20+ED20+EH20+EI20+EM20+EP20+ER20+ES20+EU20+EV20+EW20+EX20+EY20+FA20+FC20+FD20+FE20+FG20+FI20+FK20+FN20+FO20+FP20+FQ20+FR20+FT20+FV20+FW20+FX20+FZ20+GD20+GE20+GG20+GI20+GJ20+GL20+GM20+GN20+GO20+GR20+GT20+GV20+GY20+HA20+HC20+HG20+HI20+HM20+HN20+HP20+HR20+HS20+HU20+HV20+IA20+IB20+IC20+IE20+IG20+IK20+IL20+IP20+IQ20+IS20+IT20 -> 413.3 | J20: =+U20+Y20+Z20+AC20+AF20+AJ20+AK20+AM20+AO20+AR20+AS20+AT20+AU20+BA20+BB20+BD20+BN20+BT20+BU20+BX20+CB20+CC20+CH20+CI20+CJ20+CP20+CX20+BZ20+DE20+DG20+DH20+DK20+DL20+DP20+DR20+DY20+EA20+EB20+EE20+EF20+EG20+EJ20+EK20+EL20+EN20+EO20+EQ20+ET20++FH20+FJ20+FS20+FY20+GC20+GS20+GW20+HB20+HE20+HK20+HQ20+HW20+HY20+IH20+IN20 -> 431.7 | K20: =+O20+V20+W20+AA20+AD20+AG20+AX20+AZ20+BE20+BG20+BJ20+BL20+BM20+BV20+BY20+CA20+CD20+CG20+CK20+CM20+CO20+N20+CY20+DB20+DC20+DF20+DX20+EZ20+FF20+FB20+FL20+FU20+GA20+GB20+GF20+GH20+GK20+FM20+GP20+GQ20+GU20+GX20+GZ20+HD20+HF20+HH20+HJ20+HL20+HO20+HT20+HX20+HZ20+ID20+IF20+II20+IJ20+IM20+IO20+IR20+IU20 -> 793.3 | L20: =+E20-I20-J20-K20 -> -1.5916157e-12 | M20: 4 | N20: 11.9 | O20: 20 | P20: 3.2 | Q20: 4.3 | R20: 4.8 | S20: 3.4 | T20: 2.9 | U20: 5.6 | V20: 12.8 | W20: 12.5 | X20: 4.1 | Y20: 6.4 | Z20: 5.1 | AA20: 12.9 | AB20: 4.5 | AC20: 6 | AD20: 11 | AE20: 4.2 | AF20: 6 | AG20: 12.7 | AH20: 3.3 | AI20: 4.1 | AJ20: 5.1 | AK20: 7.1 | AL20: 2.9 | AM20: 7.7 | AN20: 3.2 | AO20: 5.2 | AP20: 3.2 | AQ20: 2.6 | AR20: 5.3 | AS20: 5.9 | AT20: 5.3 | AU20: 6.8 | AV20: 2.7 | AW20: 4 | AX20: 15.2 | AY20: 3.6 | AZ20: 10.1 | BA20: 5.9 | BB20: 6.9 | BC20: 2.8 | BD20: 7.6 | BE20: 13.2 | BF20: 3.8 | BG20: 10.9 | BH20: 4.4 | BI20: 3.2 | BJ20: 12.7 | BK20: 4.7 | BL20: 12.8 | BM20: 10.7 | BN20: 8.1 | BO20: 3 | BP20: 3.9 | BQ20: 2.7 | BR20: 4.4 | BS20: 5 | BT20: 7.7 | BU20: 5.7 | BV20: 10.9 | BW20: 2.8 | BX20: 5.7 | BY20: 11.5 | BZ20: 9.9 | CA20: 10.4 | CB20: 6.5 | CC20: 5.1 | CD20: 13.5 | CE20: 4.1 | CF20: 2.8 | CG20: 15.7 | CH20: 9.9 | CI20: 5.3 | CJ20: 5.2 | CK20: 11 | CL20: 3 | CM20: 10.8 | CN20: 2.8 | CO20: 17.1 | CP20: 9.4 | CQ20: 3.8 | CR20: 4.5 | CS20: 4.4 | CT20: 4 | CU20: 3.5 | CV20: 3.2 | CW20: 3.6 | CX20: 6.3 | CY20: 10.8 | CZ20: 4.3 | DA20: 2.9 | DB20: 16.6 | DC20: 15.9 | DD20: 4.9 | DE20: 6.7 | DF20: 11.5 | DG20: 6.1 | DH20: 6.3 | DI20: 3 | DJ20: 4.6 | DK20: 5.3 | DL20: 5.9 | DM20: 3.6 | DN20: 2.3 | DO20: 3.2 | DP20: 6.4 | DQ20: 4.5 | DR20: 5.3 | DS20: 3.8 | DT20: 4.6 | DU20: 3.9 | DV20: 4.1 | DW20: 3.5 | DX20: 10.9 | DY20: 5.7 | DZ20: 2.7 | EA20: 5.9 | EB20: 5.4 | EC20: 5 | ED20: 4.1 | EE20: 6.3 | EF20: 6.4 | EG20: 6.3 | EH20: 4.1 | EI20: 3.9 | EJ20: 6.8 | EK20: 6.5 | EL20: 8.3 | EM20: 4.4 | EN20: 5.4 | EO20: 5.1 | EP20: 4.7 | EQ20: 8.5 | ER20: 2 | ES20: 3.1 | ET20: 5.2 | EU20: 4.3 | EV20: 3.9 | EW20: 3.5 | EX20: 4.8 | EY20: 3.9 | EZ20: 12 | FA20: 4.5 | FB20: 12.6 | FC20: 2.6 | FD20: 3.9 | FE20: 3.6 | FF20: 10.2 | FG20: 2.6 | FH20: 9.4 | FI20: 3.4 | FJ20: 5.6 | FK20: 4.1 | FL20: 14.5 | FM20: 14.4 | FN20: 4.1 | FO20: 3 | FP20: 2.6 | FQ20: 2.9 | FR20: 3.4 | FS20: 7.7 | FT20: 4.9 | FU20: 10.5 | FV20: 4.3 | FW20: 3.4 | FX20: 2.4 | FY20: 9.5 | FZ20: 3.2 | GA20: 19.4 | GB20: 10.3 | GC20: 9.8 | GD20: 3.5 | GE20: 4.1 | GF20: 15.3 | GG20: 4.6 | GH20: 15.9 | GI20: 3.1 | GJ20: 2.3 | GK20: 12.7 | GL20: 2.1 | GM20: 2.5 | GN20: 3.2 | GO20: 2.1 | GP20: 14.1 | GQ20: 13.8 | GR20: 1.7 | GS20: 9.3 | GT20: 3.5 | GU20: 11.7 | GV20: 2.4 | GW20: 5.8 | GX20: 17.1 | GY20: 2.7 | GZ20: 18 | HA20: 2.3 | HB20: 9.3 | HC20: 3.2 | HD20: 15.2 | HE20: 9 | HF20: 12.5 | HG20: 2.9 | HH20: 10.8 | HI20: 3.1 | HJ20: 12.6 | HK20: 6.5 | HL20: 12.8 | HM20: 2.9 | HN20: 3 | HO20: 12.1 | HP20: 2.1 | HQ20: 8.6 | HR20: 2.3 | HS20: 2 | HT20: 18.7 | HU20: 2.3 | HV20: 3 | HW20: 7.7 | HX20: 12.4 | HY20: 9.6 | HZ20: 10.5 | IA20: 2.6 | IB20: 3.8 | IC20: 4 | ID20: 10.3 | IE20: 3.4 | IF20: 14.1 | IG20: 3 | IH20: 8.3 | II20: 11.3 | IJ20: 10.5 | IK20: 2.3 | IL20: 1.9 | IM20: 16 | IN20: 9.1 | IO20: 16 | IP20: 3.1 | IQ20: 4.1 | IR20: 18.8 | IS20: 2.4 | IT20: 3.9 | IU20: 10.2 | NN20: =SUM(M20:AQ20) -> 202.7 | NO20: =SUM(AR20:BS20) -> 185.6 | NP20: =SUM(BT20:CX20) -> 220.1 | NQ20: =SUM(CY20:EB20) -> 180.6 | NR20: =SUM(EC20:FG20) -> 168.5 | NS20: =SUM(FH20:GK20) -> 214.3 | NT20: =SUM(GL20:HP20) -> 230.3 | NU20: =SUM(HQ20:IU20) -> 236.2 | NV20: =SUM(IV20:JY20) -> 0 | NW20: =SUM(JZ20:LD20) -> 0 | NX20: =SUM(LE20:MH20) -> 0 | NY20: =SUM(MI20:NM20) -> 0 | NZ20: =SUM(DA20:NO20) -> 1403.1
